BEGIN:VCALENDAR
VERSION:2.0
PRODID:-//Mi Estilo Bajío - ECPv6.15.20//NONSGML v1.0//EN
CALSCALE:GREGORIAN
METHOD:PUBLISH
X-ORIGINAL-URL:https://miestilobajio.com
X-WR-CALDESC:Eventos para Mi Estilo Bajío
REFRESH-INTERVAL;VALUE=DURATION:PT1H
X-Robots-Tag:noindex
X-PUBLISHED-TTL:PT1H
BEGIN:VTIMEZONE
TZID:America/Mexico_City
BEGIN:STANDARD
TZOFFSETFROM:-0600
TZOFFSETTO:-0600
TZNAME:CST
DTSTART:20230101T000000
END:STANDARD
END:VTIMEZONE
BEGIN:VEVENT
DTSTART;TZID=America/Mexico_City:20260111T210000
DTEND;TZID=America/Mexico_City:20260111T210000
DTSTAMP:20260423T140419
CREATED:20251129T003912Z
LAST-MODIFIED:20251129T003953Z
UID:10001184-1768165200-1768165200@miestilobajio.com
SUMMARY:Pequeños Musical en la Feria de León
DESCRIPTION:¡Pequeños Musical nos pondrá a bailar en la #FeriaDeLeón 2026! Prepárate para corear sus clásicos\, sacar los prohibidos y vivir una noche llena de ritmo en la feria más bonita. \n\n\n	Podría interesarte
URL:https://miestilobajio.com/event/pequenos-musical-en-la-feria-de-leon/
LOCATION:Velaria de la Feria de León\, Bulevar Paseo de los Niños 111\, Zona Recreativa y Cultural\, León\, Guanajuato\, 37500\, Mexico
CATEGORIES:Concierto
ATTACH;FMTTYPE=image/jpeg:https://miestilobajio.com/wp-content/uploads/2025/11/52398_image_592253988_1788139488600454_6286377534079906822_n.jpg
END:VEVENT
BEGIN:VEVENT
DTSTART;TZID=America/Mexico_City:20260110T210000
DTEND;TZID=America/Mexico_City:20260110T210000
DTSTAMP:20260423T140419
CREATED:20251127T182345Z
LAST-MODIFIED:20251127T182506Z
UID:10001183-1768078800-1768078800@miestilobajio.com
SUMMARY:Foo Fighters en la Feria de León
DESCRIPTION:FOO FIGHTERS aterriza en la #FeriaDeLeón2026 🎸 Rock de alto voltaje\, himnos que marcaron generaciones y una noche que León jamás va a olvidar. \n\n\n	Podría interesarte
URL:https://miestilobajio.com/event/foo-fighters-en-la-feria-de-leon/
LOCATION:Velaria de la Feria de León\, Bulevar Paseo de los Niños 111\, Zona Recreativa y Cultural\, León\, Guanajuato\, 37500\, Mexico
CATEGORIES:Concierto
ATTACH;FMTTYPE=image/jpeg:https://miestilobajio.com/wp-content/uploads/2025/11/52348_image_592133247_1787179902029746_1457767881593372376_n.jpg
END:VEVENT
BEGIN:VEVENT
DTSTART;TZID=America/Mexico_City:20251102T120000
DTEND;TZID=America/Mexico_City:20251102T230000
DTSTAMP:20260423T140419
CREATED:20250504T005059Z
LAST-MODIFIED:20250504T005152Z
UID:10000972-1762084800-1762124400@miestilobajio.com
SUMMARY:Rockstar Fest Vol. 2
DESCRIPTION:¡Disfruta de 2 días completos de rock en el Rockstar Fest Vol. 2! Grandes artistas\, ambiente de fiesta y armonía\, todas las almas bienvenidas para disfrutar de la mejor música. \n\n\n	Podría interesarte
URL:https://miestilobajio.com/event/rockstar-fest-vol-2/
LOCATION:Velaria de la Feria de León\, Bulevar Paseo de los Niños 111\, Zona Recreativa y Cultural\, León\, Guanajuato\, 37500\, Mexico
CATEGORIES:Concierto
ATTACH;FMTTYPE=image/jpeg:https://miestilobajio.com/wp-content/uploads/2025/05/43095_image_495194433_1623098245104580_1843174642511429377_n.jpg
END:VEVENT
BEGIN:VEVENT
DTSTART;TZID=America/Mexico_City:20251101T120000
DTEND;TZID=America/Mexico_City:20251101T230000
DTSTAMP:20260423T140419
CREATED:20250504T005101Z
LAST-MODIFIED:20250504T005127Z
UID:10000973-1761998400-1762038000@miestilobajio.com
SUMMARY:Rockstar Fest Vol. 2
DESCRIPTION:¡Disfruta de 2 días completos de rock en el Rockstar Fest Vol. 2! Grandes artistas\, ambiente de fiesta y armonía\, todas las almas bienvenidas para disfrutar de la mejor música. \n\n\n	Podría interesarte
URL:https://miestilobajio.com/event/rockstar-fest-vol-2-2/
LOCATION:Velaria de la Feria de León\, Bulevar Paseo de los Niños 111\, Zona Recreativa y Cultural\, León\, Guanajuato\, 37500\, Mexico
CATEGORIES:Concierto
ATTACH;FMTTYPE=image/jpeg:https://miestilobajio.com/wp-content/uploads/2025/05/43095_image_495194433_1623098245104580_1843174642511429377_n.jpg
END:VEVENT
BEGIN:VEVENT
DTSTART;TZID=America/Mexico_City:20251004T210000
DTEND;TZID=America/Mexico_City:20251004T210000
DTSTAMP:20260423T140419
CREATED:20250501T032147Z
LAST-MODIFIED:20250501T032641Z
UID:10000956-1759611600-1759611600@miestilobajio.com
SUMMARY:Alejandro Sanz en la Velaria de la Feria de León
DESCRIPTION:¡Alejandro Sanz es toda una leyenda viva de la música! Con más de tres décadas de trayectoria\, el músico se ha consolidado como una de las figuras más influyentes e icónicas de la música en español. \n\n\n	Podría interesarte
URL:https://miestilobajio.com/event/alejandro-sanz-en-la-velaria-de-la-feria-de-leon/
LOCATION:Velaria de la Feria de León\, Bulevar Paseo de los Niños 111\, Zona Recreativa y Cultural\, León\, Guanajuato\, 37500\, Mexico
CATEGORIES:Concierto
ATTACH;FMTTYPE=image/jpeg:https://miestilobajio.com/wp-content/uploads/2025/04/42954_image_492734292_1620920805322324_7264914526941360107_n.jpg
END:VEVENT
BEGIN:VEVENT
DTSTART;TZID=America/Mexico_City:20250906T120000
DTEND;TZID=America/Mexico_City:20250906T120000
DTSTAMP:20260423T140419
CREATED:20250501T213250Z
LAST-MODIFIED:20250501T213411Z
UID:10000966-1757160000-1757160000@miestilobajio.com
SUMMARY:Candelabrum Metal Fest IV
DESCRIPTION:El Candelabrum Metal Fest\, uno de los eventos más destacados del género metal en México. Se llevará a cabo el sábado 6 y domingo 7 de septiembre en la Velaria de la Feria de León. \n\n\n	Podría interesarte
URL:https://miestilobajio.com/event/candelabrum-metal-fest-iv/
LOCATION:Velaria de la Feria de León\, Bulevar Paseo de los Niños 111\, Zona Recreativa y Cultural\, León\, Guanajuato\, 37500\, Mexico
CATEGORIES:Concierto
ATTACH;FMTTYPE=image/jpeg:https://miestilobajio.com/wp-content/uploads/2025/05/43031_image_494190362_1621512278596510_8809111115464710542_n.jpg
END:VEVENT
BEGIN:VEVENT
DTSTART;TZID=America/Mexico_City:20250816T210000
DTEND;TZID=America/Mexico_City:20250816T210000
DTSTAMP:20260423T140419
CREATED:20250506T023844Z
LAST-MODIFIED:20250506T023909Z
UID:10000979-1755378000-1755378000@miestilobajio.com
SUMMARY:Alejandra Guzmán en la Velaria de la Feria de León
DESCRIPTION:Alejandra Guzmán llegará a León con su «Brilla Tour» a la Velaria de la Feria. \n\n\n	Podría interesarte
URL:https://miestilobajio.com/event/alejandra-guzman-en-la-velaria-de-la-feria-de-leon/
LOCATION:Velaria de la Feria de León\, Bulevar Paseo de los Niños 111\, Zona Recreativa y Cultural\, León\, Guanajuato\, 37500\, Mexico
CATEGORIES:Concierto
ATTACH;FMTTYPE=image/jpeg:https://miestilobajio.com/wp-content/uploads/2025/05/43141_image_493726516_1624634188284319_4250768223989925621_n.jpg
END:VEVENT
BEGIN:VEVENT
DTSTART;TZID=America/Mexico_City:20250809T223000
DTEND;TZID=America/Mexico_City:20250809T223000
DTSTAMP:20260423T140419
CREATED:20250501T033132Z
LAST-MODIFIED:20250501T033437Z
UID:10000959-1754778600-1754778600@miestilobajio.com
SUMMARY:Panteón Rococó en la Velaria de la Feria de León
DESCRIPTION:Panteón Rococó está conformado por ocho músicos que representan una de las agrupaciones mexicanas más grandes y consolidadas del rock nacional\, con 10 producciones discográficas y más de 25 giras. \n\n\n	Podría interesarte
URL:https://miestilobajio.com/event/panteon-rococo-en-la-velaria-de-la-feria-de-leon/
LOCATION:Velaria de la Feria de León\, Bulevar Paseo de los Niños 111\, Zona Recreativa y Cultural\, León\, Guanajuato\, 37500\, Mexico
CATEGORIES:Concierto
ATTACH;FMTTYPE=image/jpeg:https://miestilobajio.com/wp-content/uploads/2025/04/42964_image_494287818_1620925611988510_4572501929574467469_n.jpg
END:VEVENT
BEGIN:VEVENT
DTSTART;TZID=America/Mexico_City:20250621T210000
DTEND;TZID=America/Mexico_City:20250621T210000
DTSTAMP:20260423T140419
CREATED:20250426T164702Z
LAST-MODIFIED:20250426T164702Z
UID:10000948-1750539600-1750539600@miestilobajio.com
SUMMARY:Morat en la Velaria de la Feria de León
DESCRIPTION:Morat llegará a Léon y se presentará en la Velaria de la Feria de León. \n\n\n	Podría interesarte
URL:https://miestilobajio.com/event/morat-en-la-velaria-de-la-feria-de-leon/
LOCATION:Velaria de la Feria de León\, Bulevar Paseo de los Niños 111\, Zona Recreativa y Cultural\, León\, Guanajuato\, 37500\, Mexico
CATEGORIES:Concierto
ATTACH;FMTTYPE=image/jpeg:https://miestilobajio.com/wp-content/uploads/2025/04/42669_image_491660529_1617638072317264_2098391963546058120_n.jpg
END:VEVENT
BEGIN:VEVENT
DTSTART;TZID=America/Mexico_City:20250613T200000
DTEND;TZID=America/Mexico_City:20250613T200000
DTSTAMP:20260423T140419
CREATED:20250504T003507Z
LAST-MODIFIED:20250504T003908Z
UID:10000969-1749844800-1749844800@miestilobajio.com
SUMMARY:Memories Romantic Style Tour en la Velaria de la Feria
DESCRIPTION:¡La música romántica que marcó una época llega a León! No te pierdas el Memories Romantic Style Tour 2025\, un evento inolvidable que reunirá a los máximos exponentes del reggae y romantic style. \n\n\n	Podría interesarte
URL:https://miestilobajio.com/event/memories-romantic-style-tour-en-la-velaria-de-la-feria/
LOCATION:Velaria de la Feria de León\, Bulevar Paseo de los Niños 111\, Zona Recreativa y Cultural\, León\, Guanajuato\, 37500\, Mexico
CATEGORIES:Concierto
ATTACH;FMTTYPE=image/jpeg:https://miestilobajio.com/wp-content/uploads/2025/05/43079_image_495152605_1623091168438621_3469542083901190_n.jpg
END:VEVENT
BEGIN:VEVENT
DTSTART;TZID=America/Mexico_City:20250322T210000
DTEND;TZID=America/Mexico_City:20250322T210000
DTSTAMP:20260423T140419
CREATED:20241101T045913Z
LAST-MODIFIED:20241101T045944Z
UID:10000606-1742677200-1742677200@miestilobajio.com
SUMMARY:Latin Mafia en Velaria Feria León
DESCRIPTION:Latin Mafia ha llegado para quedarse. El trío de hermanos va por la vida lanzando hits y cautivando a diestra y siniestra. Emilio\, Milton y Mike son los integrantes que dan vida a este proyecto en ascenso capaz de hacer bailar a cualquiera. \n¡Latin Mafia llegarán a la Velaria de la Feria Leon! \n\n\n	Podría interesarte
URL:https://miestilobajio.com/event/latin-mafia-en-velaria-feria-leon/
LOCATION:Velaria de la Feria de León\, Bulevar Paseo de los Niños 111\, Zona Recreativa y Cultural\, León\, Guanajuato\, 37500\, Mexico
CATEGORIES:Concierto
ATTACH;FMTTYPE=image/jpeg:https://miestilobajio.com/wp-content/uploads/2024/10/22595_image_465138765_1491764828237923_1507531958196870258_n.jpg
END:VEVENT
BEGIN:VEVENT
DTSTART;TZID=America/Mexico_City:20250205T210000
DTEND;TZID=America/Mexico_City:20250205T210000
DTSTAMP:20260423T140419
CREATED:20241130T183428Z
LAST-MODIFIED:20241130T183628Z
UID:10000651-1738789200-1738789200@miestilobajio.com
SUMMARY:Christian Nodal en Feria de León
DESCRIPTION:Christian Nodal se presentará en el Foro Mazda de la Feria de León 2025. \n\n\n	Podría interesarte
URL:https://miestilobajio.com/event/christian-nodal-en-feria-de-leon/
LOCATION:Velaria de la Feria de León\, Bulevar Paseo de los Niños 111\, Zona Recreativa y Cultural\, León\, Guanajuato\, 37500\, Mexico
CATEGORIES:Concierto
ATTACH;FMTTYPE=image/jpeg:https://miestilobajio.com/wp-content/uploads/2024/11/24368_image_468850418_1512177989529940_9143969784596034662_n.jpg
END:VEVENT
BEGIN:VEVENT
DTSTART;TZID=America/Mexico_City:20250204T210000
DTEND;TZID=America/Mexico_City:20250204T210000
DTSTAMP:20260423T140419
CREATED:20241130T183228Z
LAST-MODIFIED:20241130T183636Z
UID:10000650-1738702800-1738702800@miestilobajio.com
SUMMARY:Wisin en Feria de León
DESCRIPTION:Wisin se presentará en el Foro Mazda de la Feria de León 2025. \n\n\n	Podría interesarte
URL:https://miestilobajio.com/event/wisin-en-feria-de-leon/
LOCATION:Velaria de la Feria de León\, Bulevar Paseo de los Niños 111\, Zona Recreativa y Cultural\, León\, Guanajuato\, 37500\, Mexico
CATEGORIES:Concierto
ATTACH;FMTTYPE=image/jpeg:https://miestilobajio.com/wp-content/uploads/2024/11/24365_image_468731085_1512176956196710_2127782612837139006_n.jpg
END:VEVENT
BEGIN:VEVENT
DTSTART;TZID=America/Mexico_City:20250203T210000
DTEND;TZID=America/Mexico_City:20250203T210000
DTSTAMP:20260423T140419
CREATED:20241126T141435Z
LAST-MODIFIED:20241126T141528Z
UID:10000645-1738616400-1738616400@miestilobajio.com
SUMMARY:Yuridia en Feria de León
DESCRIPTION:Yuridia se presentará en el Foro Mazda de la Feria de León 2025. \n\n\n	Podría interesarte
URL:https://miestilobajio.com/event/yuridia-en-feria-de-leon/
LOCATION:Velaria de la Feria de León\, Bulevar Paseo de los Niños 111\, Zona Recreativa y Cultural\, León\, Guanajuato\, 37500\, Mexico
CATEGORIES:Concierto
ATTACH;FMTTYPE=image/jpeg:https://miestilobajio.com/wp-content/uploads/2024/11/24246_image_468392297_1509344549813284_188235250333164526_n.jpg
END:VEVENT
BEGIN:VEVENT
DTSTART;TZID=America/Mexico_City:20250202T210000
DTEND;TZID=America/Mexico_City:20250202T210000
DTSTAMP:20260423T140419
CREATED:20241126T141837Z
LAST-MODIFIED:20241126T141915Z
UID:10000646-1738530000-1738530000@miestilobajio.com
SUMMARY:Caifanes en Feria de León
DESCRIPTION:Caifanes se presentará en el Foro Mazda de la Feria de León 2025. \n\n\n	Podría interesarte
URL:https://miestilobajio.com/event/caifanes-en-feria-de-leon/
LOCATION:Velaria de la Feria de León\, Bulevar Paseo de los Niños 111\, Zona Recreativa y Cultural\, León\, Guanajuato\, 37500\, Mexico
CATEGORIES:Concierto
ATTACH;FMTTYPE=image/jpeg:https://miestilobajio.com/wp-content/uploads/2024/11/24258_image_468361339_1509346376479768_8502124483716169682_n.jpg
END:VEVENT
BEGIN:VEVENT
DTSTART;TZID=America/Mexico_City:20250201T210000
DTEND;TZID=America/Mexico_City:20250201T210000
DTSTAMP:20260423T140419
CREATED:20241130T032259Z
LAST-MODIFIED:20241130T032329Z
UID:10000648-1738443600-1738443600@miestilobajio.com
SUMMARY:Intocable en Feria de León
DESCRIPTION:Intocable se presentará en el Foro Mazda de la Feria de León 2025. \n\n\n	Podría interesarte
URL:https://miestilobajio.com/event/intocable-en-feria-de-leon/
LOCATION:Velaria de la Feria de León\, Bulevar Paseo de los Niños 111\, Zona Recreativa y Cultural\, León\, Guanajuato\, 37500\, Mexico
CATEGORIES:Concierto
ATTACH;FMTTYPE=image/jpeg:https://miestilobajio.com/wp-content/uploads/2024/11/24333_image_468718935_1511721259575613_2104487680781037875_n.jpg
END:VEVENT
BEGIN:VEVENT
DTSTART;TZID=America/Mexico_City:20250131T210000
DTEND;TZID=America/Mexico_City:20250131T210000
DTSTAMP:20260423T140419
CREATED:20241130T032553Z
LAST-MODIFIED:20241130T032623Z
UID:10000649-1738357200-1738357200@miestilobajio.com
SUMMARY:Bronco en Feria de León
DESCRIPTION:Bronco se presentará en el Foro Mazda de la Feria de León 2025. \n\n\n	Podría interesarte
URL:https://miestilobajio.com/event/bronco-en-feria-de-leon/
LOCATION:Velaria de la Feria de León\, Bulevar Paseo de los Niños 111\, Zona Recreativa y Cultural\, León\, Guanajuato\, 37500\, Mexico
CATEGORIES:Concierto
ATTACH;FMTTYPE=image/jpeg:https://miestilobajio.com/wp-content/uploads/2024/11/24338_image_468852505_1511722539575485_7064058889544840701_n.jpg
END:VEVENT
BEGIN:VEVENT
DTSTART;TZID=America/Mexico_City:20250130T210000
DTEND;TZID=America/Mexico_City:20250130T210000
DTSTAMP:20260423T140419
CREATED:20241203T194121Z
LAST-MODIFIED:20241203T194350Z
UID:10000680-1738270800-1738270800@miestilobajio.com
SUMMARY:Tucanes de Tijuana en Feria de León
DESCRIPTION:Tucanes de Tijuana se presentarán en el Foro Mazda de la Feria de León 2025. \n\n\n	Podría interesarte
URL:https://miestilobajio.com/event/tucanes-de-tijuana-en-feria-de-leon/
LOCATION:Velaria de la Feria de León\, Bulevar Paseo de los Niños 111\, Zona Recreativa y Cultural\, León\, Guanajuato\, 37500\, Mexico
CATEGORIES:Concierto
ATTACH;FMTTYPE=image/jpeg:https://miestilobajio.com/wp-content/uploads/2024/12/24443_image_469091570_1514249355989470_4399309499164852973_n.jpg
END:VEVENT
BEGIN:VEVENT
DTSTART;TZID=America/Mexico_City:20250126T210000
DTEND;TZID=America/Mexico_City:20250126T210000
DTSTAMP:20260423T140419
CREATED:20241130T031715Z
LAST-MODIFIED:20241130T032343Z
UID:10000647-1737925200-1737925200@miestilobajio.com
SUMMARY:Cuisillos en Feria de León
DESCRIPTION:Cuisillos se presentarán en el Foro Mazda de la Feria de León 2025. \n\n\n	Podría interesarte
URL:https://miestilobajio.com/event/cursillos-en-feria-de-leon/
LOCATION:Velaria de la Feria de León\, Bulevar Paseo de los Niños 111\, Zona Recreativa y Cultural\, León\, Guanajuato\, 37500\, Mexico
CATEGORIES:Concierto
ATTACH;FMTTYPE=image/jpeg:https://miestilobajio.com/wp-content/uploads/2024/11/24330_image_468618489_1511718282909244_5142304291235460605_n.jpg
END:VEVENT
BEGIN:VEVENT
DTSTART;TZID=America/Mexico_City:20250124T210000
DTEND;TZID=America/Mexico_City:20250124T210000
DTSTAMP:20260423T140419
CREATED:20241130T183554Z
LAST-MODIFIED:20241130T183644Z
UID:10000652-1737752400-1737752400@miestilobajio.com
SUMMARY:Moenia en Feria de León
DESCRIPTION:Moenia se presentará en el Foro Mazda de la Feria de León 2025. \n\n\n	Podría interesarte
URL:https://miestilobajio.com/event/moenia-en-feria-de-leon/
LOCATION:Velaria de la Feria de León\, Bulevar Paseo de los Niños 111\, Zona Recreativa y Cultural\, León\, Guanajuato\, 37500\, Mexico
CATEGORIES:Concierto
ATTACH;FMTTYPE=image/jpeg:https://miestilobajio.com/wp-content/uploads/2024/11/24371_image_468759463_1512178669529872_5787825727391460129_n.jpg
END:VEVENT
BEGIN:VEVENT
DTSTART;TZID=America/Mexico_City:20250122T210000
DTEND;TZID=America/Mexico_City:20250122T210000
DTSTAMP:20260423T140419
CREATED:20241203T194305Z
LAST-MODIFIED:20241203T194358Z
UID:10000681-1737579600-1737579600@miestilobajio.com
SUMMARY:Festival Musical Orgullo de Guanajuato en Feria de León
DESCRIPTION:Prepárate para disfrutar del Festival Musical Orgullo de Guanajuato en la Feria de León. \n\n\n	Podría interesarte
URL:https://miestilobajio.com/event/festival-musical-orgullo-de-guanajuato-en-feria-de-leon/
LOCATION:Velaria de la Feria de León\, Bulevar Paseo de los Niños 111\, Zona Recreativa y Cultural\, León\, Guanajuato\, 37500\, Mexico
CATEGORIES:Concierto
ATTACH;FMTTYPE=image/jpeg:https://miestilobajio.com/wp-content/uploads/2024/12/24448_image_469161428_1514250239322715_7339108699231884259_n.jpg
END:VEVENT
BEGIN:VEVENT
DTSTART;TZID=America/Mexico_City:20250120T210000
DTEND;TZID=America/Mexico_City:20250120T210000
DTSTAMP:20260423T140419
CREATED:20241126T140211Z
LAST-MODIFIED:20241126T141122Z
UID:10000643-1737406800-1737406800@miestilobajio.com
SUMMARY:Espinoza Paz en Feria de León
DESCRIPTION:Espinoza Paz se presentará en el Foro Mazda de la Feria de León 2025. \n\n\n	Podría interesarte
URL:https://miestilobajio.com/event/espinoza-paz-en-feria-de-leon/
LOCATION:Velaria de la Feria de León\, Bulevar Paseo de los Niños 111\, Zona Recreativa y Cultural\, León\, Guanajuato\, 37500\, Mexico
CATEGORIES:Concierto
ATTACH;FMTTYPE=image/jpeg:https://miestilobajio.com/wp-content/uploads/2024/11/24236_image_468430928_1509337643147308_4010185854818938034_n.jpg
END:VEVENT
BEGIN:VEVENT
DTSTART;TZID=America/Mexico_City:20250119T210000
DTEND;TZID=America/Mexico_City:20250119T210000
DTSTAMP:20260423T140419
CREATED:20241126T135957Z
LAST-MODIFIED:20241126T141130Z
UID:10000642-1737320400-1737320400@miestilobajio.com
SUMMARY:Meduza en Feria de León
DESCRIPTION:Meduza se presentará en el Foro Mazda de la Feria de León 2025. \n\n\n	Podría interesarte
URL:https://miestilobajio.com/event/meduza-en-feria-de-leon/
LOCATION:Velaria de la Feria de León\, Bulevar Paseo de los Niños 111\, Zona Recreativa y Cultural\, León\, Guanajuato\, 37500\, Mexico
CATEGORIES:Concierto
ATTACH;FMTTYPE=image/jpeg:https://miestilobajio.com/wp-content/uploads/2024/11/24233_image_468564310_1509336383147434_1059624812875618589_n.jpg
END:VEVENT
BEGIN:VEVENT
DTSTART;TZID=America/Mexico_City:20250112T210000
DTEND;TZID=America/Mexico_City:20250112T210000
DTSTAMP:20260423T140419
CREATED:20241121T023648Z
LAST-MODIFIED:20241121T023759Z
UID:10000641-1736715600-1736715600@miestilobajio.com
SUMMARY:Cardenales e Invasores de Nuevo León en Feria de León
DESCRIPTION:¡Duelo de Acordeones! Los Cardenales e Invasores de Nuevo León se presentarán en el Foro Mazda de la Feria de León 2025. \n\n\n	Podría interesarte
URL:https://miestilobajio.com/event/cardenales-e-invasores-de-nuevo-leon-en-feria-de-leon/
LOCATION:Velaria de la Feria de León\, Bulevar Paseo de los Niños 111\, Zona Recreativa y Cultural\, León\, Guanajuato\, 37500\, Mexico
CATEGORIES:Concierto
ATTACH;FMTTYPE=image/jpeg:https://miestilobajio.com/wp-content/uploads/2024/11/24166_image_467742890_1505650123516060_690142002190523324_n.jpg
END:VEVENT
BEGIN:VEVENT
DTSTART;TZID=America/Mexico_City:20250111T210000
DTEND;TZID=America/Mexico_City:20250111T210000
DTSTAMP:20260423T140419
CREATED:20241121T023346Z
LAST-MODIFIED:20241121T023743Z
UID:10000640-1736629200-1736629200@miestilobajio.com
SUMMARY:Mattise en Feria de León
DESCRIPTION:Matisse se presentará en el Foro Mazda de la Feria de León 2025. \n\n\n	Podría interesarte
URL:https://miestilobajio.com/event/mattise-en-feria-de-leon/
LOCATION:Velaria de la Feria de León\, Bulevar Paseo de los Niños 111\, Zona Recreativa y Cultural\, León\, Guanajuato\, 37500\, Mexico
CATEGORIES:Concierto
ATTACH;FMTTYPE=image/jpeg:https://miestilobajio.com/wp-content/uploads/2024/11/24163_image_467704390_1505648503516222_614253496967724411_n.jpg
END:VEVENT
BEGIN:VEVENT
DTSTART;TZID=America/Mexico_City:20250110T210000
DTEND;TZID=America/Mexico_City:20250110T210000
DTSTAMP:20260423T140419
CREATED:20241121T023151Z
LAST-MODIFIED:20241121T023731Z
UID:10000639-1736542800-1736542800@miestilobajio.com
SUMMARY:La Arrolladora en Feria de León
DESCRIPTION:La Arrolladora se presentará en el Foro Mazda de la Feria de León 2025. \n\n\n	Podría interesarte
URL:https://miestilobajio.com/event/la-arrolladora-en-feria-de-leon/
LOCATION:Velaria de la Feria de León\, Bulevar Paseo de los Niños 111\, Zona Recreativa y Cultural\, León\, Guanajuato\, 37500\, Mexico
CATEGORIES:Concierto
ATTACH;FMTTYPE=image/jpeg:https://miestilobajio.com/wp-content/uploads/2024/11/24160_image_467863099_1505646130183126_6502950294259349758_n.jpg
END:VEVENT
BEGIN:VEVENT
DTSTART;TZID=America/Mexico_City:20241026T210000
DTEND;TZID=America/Mexico_City:20241026T210000
DTSTAMP:20260423T140419
CREATED:20240923T025605Z
LAST-MODIFIED:20240930T181824Z
UID:10000582-1729976400-1729976400@miestilobajio.com
SUMMARY:Grupo Frontera en Velaria Feria León
DESCRIPTION:A Grupo Frontera el éxito los rodea. Hit tras hit han sabido ganarse el gusto del público y ahora están más que listos para emprender un nuevo camino pisando distintos recintos alrededor de la República Mexicana. \n\n\n	Podría interesarte
URL:https://miestilobajio.com/event/grupo-frontera-en-leon-2/
LOCATION:Velaria de la Feria de León\, Bulevar Paseo de los Niños 111\, Zona Recreativa y Cultural\, León\, Guanajuato\, 37500\, Mexico
CATEGORIES:Concierto
ATTACH;FMTTYPE=image/jpeg:https://miestilobajio.com/wp-content/uploads/2024/09/21909_image_461083792_1463089957772077_5312912528293982573_n.jpg
END:VEVENT
BEGIN:VEVENT
DTSTART;TZID=America/Mexico_City:20241003T210000
DTEND;TZID=America/Mexico_City:20241003T210000
DTSTAMP:20260423T140419
CREATED:20241001T192831Z
LAST-MODIFIED:20241001T192831Z
UID:10000595-1727989200-1727989200@miestilobajio.com
SUMMARY:Caifanes en Velaria Feria León
DESCRIPTION:Consolidada como una de las bandas más emblemáticas e influyentes del rock en español\, Caifanes hoy sigue sonorizando con fuerza los escenarios. \n\n\n	Podría interesarte
URL:https://miestilobajio.com/event/caifanes-en-velaria-feria-leon/
LOCATION:Velaria de la Feria de León\, Bulevar Paseo de los Niños 111\, Zona Recreativa y Cultural\, León\, Guanajuato\, 37500\, Mexico
CATEGORIES:Concierto
ATTACH;FMTTYPE=image/jpeg:https://miestilobajio.com/wp-content/uploads/2024/10/22130_image_461798874_1469582573789482_3501240946938724871_n.jpg
END:VEVENT
BEGIN:VEVENT
DTSTART;TZID=America/Mexico_City:20240426T210000
DTEND;TZID=America/Mexico_City:20240426T210000
DTSTAMP:20260423T140419
CREATED:20230904T182140Z
LAST-MODIFIED:20230904T182140Z
UID:10000457-1714165200-1714165200@miestilobajio.com
SUMMARY:Los Temerarios en León
DESCRIPTION:Los Temerarios se han convertido en una imagen que representa fuerza\, respeto y prestigio en México\, Estado Unidos\, Centro y Sudamérica. \n\n\n	Podría interesarte
URL:https://miestilobajio.com/event/los-temerarios-en-leon/
LOCATION:Velaria de la Feria de León\, Bulevar Paseo de los Niños 111\, Zona Recreativa y Cultural\, León\, Guanajuato\, 37500\, Mexico
CATEGORIES:Concierto
ATTACH;FMTTYPE=image/jpeg:https://miestilobajio.com/wp-content/uploads/2023/09/17345_image_375763927_1237513340329741_2626650638933996961_n.jpg
END:VEVENT
BEGIN:VEVENT
DTSTART;TZID=America/Mexico_City:20240201T210000
DTEND;TZID=America/Mexico_City:20240201T210000
DTSTAMP:20260423T140419
CREATED:20231229T011814Z
LAST-MODIFIED:20231229T011814Z
UID:10000521-1706821200-1706821200@miestilobajio.com
SUMMARY:Maluma en Feria León
DESCRIPTION:Maluma llegará al Foro Mazda de la Feria León 2024. \n\n\n	Podría interesarte
URL:https://miestilobajio.com/event/maluma-en-feria-leon/
LOCATION:Velaria de la Feria de León\, Bulevar Paseo de los Niños 111\, Zona Recreativa y Cultural\, León\, Guanajuato\, 37500\, Mexico
CATEGORIES:Concierto
ATTACH;FMTTYPE=image/jpeg:https://miestilobajio.com/wp-content/uploads/2023/12/19329_image_415250401_1300342197380188_2988345142204556144_n.jpg
END:VEVENT
END:VCALENDAR