BEGIN:VCALENDAR
VERSION:2.0
PRODID:-//Mi Estilo Bajío - ECPv6.15.20//NONSGML v1.0//EN
CALSCALE:GREGORIAN
METHOD:PUBLISH
X-ORIGINAL-URL:https://miestilobajio.com
X-WR-CALDESC:Eventos para Mi Estilo Bajío
REFRESH-INTERVAL;VALUE=DURATION:PT1H
X-Robots-Tag:noindex
X-PUBLISHED-TTL:PT1H
BEGIN:VTIMEZONE
TZID:America/Mexico_City
BEGIN:STANDARD
TZOFFSETFROM:-0600
TZOFFSETTO:-0600
TZNAME:CST
DTSTART:20230101T000000
END:STANDARD
END:VTIMEZONE
BEGIN:VEVENT
DTSTART;TZID=America/Mexico_City:20240121T090000
DTEND;TZID=America/Mexico_City:20240121T090000
DTSTAMP:20260419T113320
CREATED:20240117T022411Z
LAST-MODIFIED:20240117T022411Z
UID:10000540-1705827600-1705827600@miestilobajio.com
SUMMARY:Desfile Feria León
DESCRIPTION:Este domingo 21 de enero\, te invitamos a un desfile espectacular lleno de historia\, cultura y alegría. 🥳🚗 \n\n\n	Podría interesarte
URL:https://miestilobajio.com/event/desfile-feria-leon/
LOCATION:León\, Guanajuato\, León\, 37000\, MX
CATEGORIES:Festival
ATTACH;FMTTYPE=image/jpeg:https://miestilobajio.com/wp-content/uploads/2024/01/19620_image_420121534_1311049292976145_8973983484910972085_n.jpg
END:VEVENT
END:VCALENDAR