BEGIN:VCALENDAR
VERSION:2.0
PRODID:-//Mi Estilo Bajío - ECPv6.15.20//NONSGML v1.0//EN
CALSCALE:GREGORIAN
METHOD:PUBLISH
X-WR-CALNAME:Mi Estilo Bajío
X-ORIGINAL-URL:https://miestilobajio.com
X-WR-CALDESC:Eventos para Mi Estilo Bajío
REFRESH-INTERVAL;VALUE=DURATION:PT1H
X-Robots-Tag:noindex
X-PUBLISHED-TTL:PT1H
BEGIN:VTIMEZONE
TZID:America/Mexico_City
BEGIN:STANDARD
TZOFFSETFROM:-0600
TZOFFSETTO:-0600
TZNAME:CST
DTSTART:20230101T000000
END:STANDARD
END:VTIMEZONE
BEGIN:VEVENT
DTSTART;TZID=America/Mexico_City:20260325T203000
DTEND;TZID=America/Mexico_City:20260325T203000
DTSTAMP:20260423T053159
CREATED:20251021T040130Z
LAST-MODIFIED:20251021T040130Z
UID:10001153-1774470600-1774470600@miestilobajio.com
SUMMARY:Love of Lesbian en León
DESCRIPTION:La banda española Love Of Lesbian regresa a México\, haciendo que la magia de su música se mezclará una vez más con la energía del público. \nSu gira promete ser inolvidable\, un viaje emocional que nos llevará por los diferentes matices de su repertorio\, desde los temas más melancólicos hasta los más eufóricos. \n\n\n	Podría interesarte
URL:https://miestilobajio.com/event/love-of-lesbian-en-leon/
LOCATION:Foro Del Lago\, León\, 37500\, Mexico
CATEGORIES:Concierto
ATTACH;FMTTYPE=image/jpeg:https://miestilobajio.com/wp-content/uploads/2025/10/49162_image_564735931_1756283075119429_2879265179809766943_n.jpg
END:VEVENT
BEGIN:VEVENT
DTSTART;TZID=America/Mexico_City:20251022T190000
DTEND;TZID=America/Mexico_City:20251022T190000
DTSTAMP:20260423T053159
CREATED:20251018T062930Z
LAST-MODIFIED:20251018T062930Z
UID:10001130-1761159600-1761159600@miestilobajio.com
SUMMARY:Tributo Guerreras K-Pop
DESCRIPTION:No te pierdas el tributo Guerreras K-POP\, un espectáculo en vivo lleno de energía y baile. \n\n\n	Podría interesarte
URL:https://miestilobajio.com/event/tributo-guerreras-k-pop/
LOCATION:Foro Del Lago\, León\, 37500\, Mexico
CATEGORIES:Concierto
ATTACH;FMTTYPE=image/jpeg:https://miestilobajio.com/wp-content/uploads/2025/10/48992_image_565833594_1753831345364602_2692767499908316382_n.jpg
END:VEVENT
BEGIN:VEVENT
DTSTART;TZID=America/Mexico_City:20250614T210000
DTEND;TZID=America/Mexico_City:20250614T210000
DTSTAMP:20260423T053159
CREATED:20241101T050410Z
LAST-MODIFIED:20241101T050439Z
UID:10000607-1749934800-1749934800@miestilobajio.com
SUMMARY:Tiago PZK
DESCRIPTION:Tiago PZK ha destacado en la industria musical al fusionar canciones con estilos urbanos como el trap latino y el reguetón y\, anunció que próximamente va a pisar tierras mexicanas incluida León\, Guanajuato. \n\n\n	Podría interesarte
URL:https://miestilobajio.com/event/tiago-pzk/
LOCATION:Foro Del Lago\, León\, 37500\, Mexico
CATEGORIES:Concierto
ATTACH;FMTTYPE=image/jpeg:https://miestilobajio.com/wp-content/uploads/2024/10/22599_image_465123597_1491767731570966_6150421797672348315_n.jpg
END:VEVENT
BEGIN:VEVENT
DTSTART;TZID=America/Mexico_City:20250509T210000
DTEND;TZID=America/Mexico_City:20250509T210000
DTSTAMP:20260423T053159
CREATED:20250501T033433Z
LAST-MODIFIED:20250501T033514Z
UID:10000960-1746824400-1746824400@miestilobajio.com
SUMMARY:Rock Jude Fest en el Foro del Lago de León
DESCRIPTION:Regresa a León la mejor celebración al Rock Clásico con las grandes figuras de la escena del Rock Nacional: ROCK JUDE FEST. En esta edición con Leonardo de Lozanne (Fobia)\, Daniel Gutiérrez (La Gusana Ciega)\, Alfonso André (Caifanes)\, José Fors (La Cuca) y Víctor Carré (Melina)\, interpretando los grandes éxitos de David Bowie\, The Beatles\, Led Zeppelin\, Blanck Sabath y Queen”. \n\n\n	Podría interesarte
URL:https://miestilobajio.com/event/rock-jude-fest-en-el-foro-del-lago-de-leon/
LOCATION:Foro Del Lago\, León\, 37500\, Mexico
CATEGORIES:Concierto
ATTACH;FMTTYPE=image/jpeg:https://miestilobajio.com/wp-content/uploads/2025/04/42968_image_495171799_1620927328655005_667993911944959724_n.jpg
END:VEVENT
BEGIN:VEVENT
DTSTART;TZID=America/Mexico_City:20250329T210000
DTEND;TZID=America/Mexico_City:20250329T210000
DTSTAMP:20260423T053159
CREATED:20250115T052548Z
LAST-MODIFIED:20250115T053328Z
UID:10000926-1743282000-1743282000@miestilobajio.com
SUMMARY:Leonel García en Foro del Lago
DESCRIPTION:Leonel García regresa a los escenarios más importantes de Latinoamérica y por primera vez al Foro del Lago de la ciudad de León con “Pausa Tour”. \n\n\n	Podría interesarte
URL:https://miestilobajio.com/event/leonel-garcia-en-foro-del-lago/
LOCATION:Foro Del Lago\, León\, 37500\, Mexico
CATEGORIES:Concierto
ATTACH;FMTTYPE=image/jpeg:https://miestilobajio.com/wp-content/uploads/2025/01/26941_image_473822508_1542849193129486_2327262458186517660_n.jpg
END:VEVENT
BEGIN:VEVENT
DTSTART;TZID=America/Mexico_City:20250323T210000
DTEND;TZID=America/Mexico_City:20250323T210000
DTSTAMP:20260423T053159
CREATED:20250115T053020Z
LAST-MODIFIED:20250115T053338Z
UID:10000927-1742763600-1742763600@miestilobajio.com
SUMMARY:Porter & Hello Seahorse en Foro del Lago
DESCRIPTION:Porter y Hello Seahorse! unen su talento en un mismo espacio y en una misma noche. \n\n\n	Podría interesarte
URL:https://miestilobajio.com/event/porter-hello-seahorse-en-foro-del-lago/
LOCATION:Foro Del Lago\, León\, 37500\, Mexico
CATEGORIES:Concierto
ATTACH;FMTTYPE=image/jpeg:https://miestilobajio.com/wp-content/uploads/2025/01/26944_image_473550687_1542851283129277_2375806002607818352_n.jpg
END:VEVENT
BEGIN:VEVENT
DTSTART;TZID=America/Mexico_City:20250308T210000
DTEND;TZID=America/Mexico_City:20250308T210000
DTSTAMP:20260423T053159
CREATED:20250115T053242Z
LAST-MODIFIED:20250115T053348Z
UID:10000928-1741467600-1741467600@miestilobajio.com
SUMMARY:José Madero en Foro del Lago
DESCRIPTION:José Madero se presentará en León\, como parte de su gira Sarajevo\, que lleva el mismo nombre que su más reciente álbum. \n\n\n	Podría interesarte
URL:https://miestilobajio.com/event/jose-madero-en-foro-del-lago/
LOCATION:Foro Del Lago\, León\, 37500\, Mexico
CATEGORIES:Concierto
ATTACH;FMTTYPE=image/jpeg:https://miestilobajio.com/wp-content/uploads/2025/01/26947_image_473622611_1542852279795844_1100068641846221173_n.jpg
END:VEVENT
BEGIN:VEVENT
DTSTART;TZID=America/Mexico_City:20241116T210000
DTEND;TZID=America/Mexico_City:20241116T210000
DTSTAMP:20260423T053159
CREATED:20241002T045955Z
LAST-MODIFIED:20241002T050023Z
UID:10000598-1731790800-1731790800@miestilobajio.com
SUMMARY:Lit Killah en Foro del Lago León
DESCRIPTION:¡Se viene una explosión de rap! Lit Killah es uno de los referentes del trap y la música urbana en Latinoamérica. Desde su surgimiento\, el rapero argentino ha tenido una carrera meteórica que lo ha llevado a triunfar desde en batallas de freestyle hasta sobre el escenario. \n\n\n	Podría interesarte
URL:https://miestilobajio.com/event/lit-killah-en-foro-del-lago-leon/
LOCATION:Foro Del Lago\, León\, 37500\, Mexico
CATEGORIES:Concierto
ATTACH;FMTTYPE=image/jpeg:https://miestilobajio.com/wp-content/uploads/2024/10/22149_image_461855304_1469865900427816_4583416177468846813_n.jpg
END:VEVENT
BEGIN:VEVENT
DTSTART;TZID=America/Mexico_City:20241115T210000
DTEND;TZID=America/Mexico_City:20241115T210000
DTSTAMP:20260423T053159
CREATED:20241003T043839Z
LAST-MODIFIED:20241003T043906Z
UID:10000603-1731704400-1731704400@miestilobajio.com
SUMMARY:Gera MX en Foro del Lago León
DESCRIPTION:Desde sus inicios\, Gera MX ha emergido como una figura clave en la escena musical contemporánea\, hasta destacarse como gran exponente del rap en México. Con letras introspectivas\, rimas ingeniosas y una autenticidad palpable\, Gera Mx ha logrado no solo capturar la atención de sus seguidores\, sino también ganarse un lugar privilegiado en la industria. \n\n\n	Podría interesarte
URL:https://miestilobajio.com/event/gera-mx-en-foro-del-lago-leon/
LOCATION:Foro Del Lago\, León\, 37500\, Mexico
CATEGORIES:Concierto
ATTACH;FMTTYPE=image/jpeg:https://miestilobajio.com/wp-content/uploads/2024/10/22194_image_461983543_1470617003686039_2579111281716985783_n.jpg
END:VEVENT
BEGIN:VEVENT
DTSTART;TZID=America/Mexico_City:20241101T210000
DTEND;TZID=America/Mexico_City:20241101T230000
DTSTAMP:20260423T053159
CREATED:20241003T043442Z
LAST-MODIFIED:20241003T043442Z
UID:10000601-1730494800-1730502000@miestilobajio.com
SUMMARY:Siddhartha en Foro del Lago León
DESCRIPTION:La música de Siddhartha\, es el pulso que marca toda una nueva ola de rock en español\, colocándolo como uno de los cantautores más influyentes del país. \n\n\n	Podría interesarte
URL:https://miestilobajio.com/event/siddhartha-en-foro-del-lago-leon/
LOCATION:Foro Del Lago\, León\, 37500\, Mexico
CATEGORIES:Concierto
ATTACH;FMTTYPE=image/jpeg:https://miestilobajio.com/wp-content/uploads/2024/10/22190_image_461961357_1470614820352924_7520311250763159869_n.jpg
END:VEVENT
BEGIN:VEVENT
DTSTART;TZID=America/Mexico_City:20241031T210000
DTEND;TZID=America/Mexico_City:20241031T230000
DTSTAMP:20260423T053159
CREATED:20241003T043444Z
LAST-MODIFIED:20241003T043444Z
UID:10000602-1730408400-1730415600@miestilobajio.com
SUMMARY:Siddhartha en Foro del Lago León
DESCRIPTION:La música de Siddhartha\, es el pulso que marca toda una nueva ola de rock en español\, colocándolo como uno de los cantautores más influyentes del país. \n\n\n	Podría interesarte
URL:https://miestilobajio.com/event/siddhartha-en-foro-del-lago-leon-2/
LOCATION:Foro Del Lago\, León\, 37500\, Mexico
CATEGORIES:Concierto
ATTACH;FMTTYPE=image/jpeg:https://miestilobajio.com/wp-content/uploads/2024/10/22190_image_461961357_1470614820352924_7520311250763159869_n.jpg
END:VEVENT
BEGIN:VEVENT
DTSTART;TZID=America/Mexico_City:20241012T210000
DTEND;TZID=America/Mexico_City:20241012T210000
DTSTAMP:20260423T053159
CREATED:20241001T040406Z
LAST-MODIFIED:20241001T040444Z
UID:10000593-1728766800-1728766800@miestilobajio.com
SUMMARY:Enjambre en Foro del Lago León
DESCRIPTION:Con el corazón puesto en Fresnillo\, Zacatecas pero conquistando cada rincón de México\, Enjambre es una de las bandas más aclamadas y consolidadas de la escena rock del país. \n\n\n	Podría interesarte
URL:https://miestilobajio.com/event/enjambre-en-foro-del-lago-leon/
LOCATION:Foro Del Lago\, León\, 37500\, Mexico
CATEGORIES:Concierto
ATTACH;FMTTYPE=image/jpeg:https://miestilobajio.com/wp-content/uploads/2024/09/22117_image_461871554_1469073470507059_4431704664951577956_n.jpg
END:VEVENT
BEGIN:VEVENT
DTSTART;TZID=America/Mexico_City:20240926T210000
DTEND;TZID=America/Mexico_City:20240926T210000
DTSTAMP:20260423T053159
CREATED:20240922T214604Z
LAST-MODIFIED:20240922T214604Z
UID:10000581-1727384400-1727384400@miestilobajio.com
SUMMARY:Trueno en León
DESCRIPTION:El rapero y freestyler argentino Trueno ha ganado reconocimiento en la escena musical de América Latina\, forma parte de una generación de artistas que están llevando el rap a nuevos horizontes\, infundiendo el género con sus experiencias personales y su contexto cultural. \n\n\n	Podría interesarte
URL:https://miestilobajio.com/event/trueno-en-leon/
LOCATION:Foro Del Lago\, León\, 37500\, Mexico
CATEGORIES:Concierto
ATTACH;FMTTYPE=image/jpeg:https://miestilobajio.com/wp-content/uploads/2024/09/21905_image_461104150_1462949811119425_4051057136728016653_n.jpg
END:VEVENT
BEGIN:VEVENT
DTSTART;TZID=America/Mexico_City:20240622T210000
DTEND;TZID=America/Mexico_City:20240622T210000
DTSTAMP:20260423T053159
CREATED:20240531T223058Z
LAST-MODIFIED:20240531T223058Z
UID:10000567-1719090000-1719090000@miestilobajio.com
SUMMARY:Oscar Maydon en León
DESCRIPTION:Oscar Maydon  llega a León con su Tour Distorsión 2024 a presentar sus más grandes éxitos. \n\n\n	Podría interesarte
URL:https://miestilobajio.com/event/oscar-maydon-en-leon/
LOCATION:Foro Del Lago\, León\, 37500\, Mexico
CATEGORIES:Concierto
ATTACH;FMTTYPE=image/jpeg:https://miestilobajio.com/wp-content/uploads/2024/05/20573_image_441624487_1391390538275353_5411599816045792812_n.jpg
END:VEVENT
BEGIN:VEVENT
DTSTART;TZID=America/Mexico_City:20240420T120000
DTEND;TZID=America/Mexico_City:20240420T120000
DTSTAMP:20260423T053159
CREATED:20240211T220250Z
LAST-MODIFIED:20240211T220250Z
UID:10000552-1713614400-1713614400@miestilobajio.com
SUMMARY:Las Patronas del Rap
DESCRIPTION:«Las Patronas del Rap» reúne a las mejores raperas de México para destacar su talento y posicionarlas como exponentes clave del género. \n\n\n	Podría interesarte
URL:https://miestilobajio.com/event/las-patronas-del-rap/
LOCATION:Foro Del Lago\, León\, 37500\, Mexico
CATEGORIES:Concierto
ATTACH;FMTTYPE=image/jpeg:https://miestilobajio.com/wp-content/uploads/2024/02/19825_image_427946560_1326608968086844_3538814179010860075_n.jpg
END:VEVENT
BEGIN:VEVENT
DTSTART;TZID=America/Mexico_City:20240322T200000
DTEND;TZID=America/Mexico_City:20240322T200000
DTSTAMP:20260423T053159
CREATED:20231221T001015Z
LAST-MODIFIED:20231221T001015Z
UID:10000519-1711137600-1711137600@miestilobajio.com
SUMMARY:Humbe en León
DESCRIPTION:Humbe llegará a León con su Esencia Tour. \n\n\n	Podría interesarte
URL:https://miestilobajio.com/event/humbe-en-leon/
LOCATION:Foro Del Lago\, León\, 37500\, Mexico
CATEGORIES:Concierto
ATTACH;FMTTYPE=image/jpeg:https://miestilobajio.com/wp-content/uploads/2023/12/19275_image_412902236_1295620091185732_2159900423592167076_n.jpg
END:VEVENT
END:VCALENDAR