BEGIN:VCALENDAR
VERSION:2.0
PRODID:-//Mi Estilo Bajío - ECPv6.15.20//NONSGML v1.0//EN
CALSCALE:GREGORIAN
METHOD:PUBLISH
X-WR-CALNAME:Mi Estilo Bajío
X-ORIGINAL-URL:https://miestilobajio.com
X-WR-CALDESC:Eventos para Mi Estilo Bajío
REFRESH-INTERVAL;VALUE=DURATION:PT1H
X-Robots-Tag:noindex
X-PUBLISHED-TTL:PT1H
BEGIN:VTIMEZONE
TZID:America/Mexico_City
BEGIN:STANDARD
TZOFFSETFROM:-0600
TZOFFSETTO:-0600
TZNAME:CST
DTSTART:20230101T000000
END:STANDARD
END:VTIMEZONE
BEGIN:VEVENT
DTSTART;TZID=America/Mexico_City:20250123T200000
DTEND;TZID=America/Mexico_City:20250123T213000
DTSTAMP:20260421T104449
CREATED:20241210T032931Z
LAST-MODIFIED:20241210T032931Z
UID:10000748-1737662400-1737667800@miestilobajio.com
SUMMARY:¡Nickelodeon está en ti! en la Feria de León
DESCRIPTION:¡La fiesta más grande de Nickelodeon está por comenzar! \n\n\n	Podría interesarte
URL:https://miestilobajio.com/event/nickelodeon-esta-en-ti-en-la-feria-de-leon-17/
LOCATION:Domo de la Feria de León\, Blvd. Adolfo Lopez Materos Oriente #1820\, León\, Guanajuato\, 37500\, Mexico
CATEGORIES:Teatro
ATTACH;FMTTYPE=image/jpeg:https://miestilobajio.com/wp-content/uploads/2024/12/24607_image_469706996_1518393725575033_2064433312068173816_n.jpg
END:VEVENT
BEGIN:VEVENT
DTSTART;TZID=America/Mexico_City:20250123T160000
DTEND;TZID=America/Mexico_City:20250123T173000
DTSTAMP:20260421T104449
CREATED:20241210T032931Z
LAST-MODIFIED:20241210T032931Z
UID:10000749-1737648000-1737653400@miestilobajio.com
SUMMARY:¡Nickelodeon está en ti! en la Feria de León
DESCRIPTION:¡La fiesta más grande de Nickelodeon está por comenzar! \n\n\n	Podría interesarte
URL:https://miestilobajio.com/event/nickelodeon-esta-en-ti-en-la-feria-de-leon-18/
LOCATION:Domo de la Feria de León\, Blvd. Adolfo Lopez Materos Oriente #1820\, León\, Guanajuato\, 37500\, Mexico
CATEGORIES:Teatro
ATTACH;FMTTYPE=image/jpeg:https://miestilobajio.com/wp-content/uploads/2024/12/24607_image_469706996_1518393725575033_2064433312068173816_n.jpg
END:VEVENT
BEGIN:VEVENT
DTSTART;TZID=America/Mexico_City:20250122T200000
DTEND;TZID=America/Mexico_City:20250122T213000
DTSTAMP:20260421T104449
CREATED:20241210T032932Z
LAST-MODIFIED:20241210T032932Z
UID:10000750-1737576000-1737581400@miestilobajio.com
SUMMARY:¡Nickelodeon está en ti! en la Feria de León
DESCRIPTION:¡La fiesta más grande de Nickelodeon está por comenzar! \n\n\n	Podría interesarte
URL:https://miestilobajio.com/event/nickelodeon-esta-en-ti-en-la-feria-de-leon-19/
LOCATION:Domo de la Feria de León\, Blvd. Adolfo Lopez Materos Oriente #1820\, León\, Guanajuato\, 37500\, Mexico
CATEGORIES:Teatro
ATTACH;FMTTYPE=image/jpeg:https://miestilobajio.com/wp-content/uploads/2024/12/24607_image_469706996_1518393725575033_2064433312068173816_n.jpg
END:VEVENT
BEGIN:VEVENT
DTSTART;TZID=America/Mexico_City:20250122T160000
DTEND;TZID=America/Mexico_City:20250122T173000
DTSTAMP:20260421T104449
CREATED:20241210T032932Z
LAST-MODIFIED:20241210T032932Z
UID:10000751-1737561600-1737567000@miestilobajio.com
SUMMARY:¡Nickelodeon está en ti! en la Feria de León
DESCRIPTION:¡La fiesta más grande de Nickelodeon está por comenzar! \n\n\n	Podría interesarte
URL:https://miestilobajio.com/event/nickelodeon-esta-en-ti-en-la-feria-de-leon-20/
LOCATION:Domo de la Feria de León\, Blvd. Adolfo Lopez Materos Oriente #1820\, León\, Guanajuato\, 37500\, Mexico
CATEGORIES:Teatro
ATTACH;FMTTYPE=image/jpeg:https://miestilobajio.com/wp-content/uploads/2024/12/24607_image_469706996_1518393725575033_2064433312068173816_n.jpg
END:VEVENT
BEGIN:VEVENT
DTSTART;TZID=America/Mexico_City:20250121T200000
DTEND;TZID=America/Mexico_City:20250121T213000
DTSTAMP:20260421T104449
CREATED:20241210T032933Z
LAST-MODIFIED:20241210T032933Z
UID:10000752-1737489600-1737495000@miestilobajio.com
SUMMARY:¡Nickelodeon está en ti! en la Feria de León
DESCRIPTION:¡La fiesta más grande de Nickelodeon está por comenzar! \n\n\n	Podría interesarte
URL:https://miestilobajio.com/event/nickelodeon-esta-en-ti-en-la-feria-de-leon-21/
LOCATION:Domo de la Feria de León\, Blvd. Adolfo Lopez Materos Oriente #1820\, León\, Guanajuato\, 37500\, Mexico
CATEGORIES:Teatro
ATTACH;FMTTYPE=image/jpeg:https://miestilobajio.com/wp-content/uploads/2024/12/24607_image_469706996_1518393725575033_2064433312068173816_n.jpg
END:VEVENT
BEGIN:VEVENT
DTSTART;TZID=America/Mexico_City:20250121T160000
DTEND;TZID=America/Mexico_City:20250121T173000
DTSTAMP:20260421T104449
CREATED:20241210T032933Z
LAST-MODIFIED:20241210T032933Z
UID:10000753-1737475200-1737480600@miestilobajio.com
SUMMARY:¡Nickelodeon está en ti! en la Feria de León
DESCRIPTION:¡La fiesta más grande de Nickelodeon está por comenzar! \n\n\n	Podría interesarte
URL:https://miestilobajio.com/event/nickelodeon-esta-en-ti-en-la-feria-de-leon-22/
LOCATION:Domo de la Feria de León\, Blvd. Adolfo Lopez Materos Oriente #1820\, León\, Guanajuato\, 37500\, Mexico
CATEGORIES:Teatro
ATTACH;FMTTYPE=image/jpeg:https://miestilobajio.com/wp-content/uploads/2024/12/24607_image_469706996_1518393725575033_2064433312068173816_n.jpg
END:VEVENT
BEGIN:VEVENT
DTSTART;TZID=America/Mexico_City:20250120T200000
DTEND;TZID=America/Mexico_City:20250120T213000
DTSTAMP:20260421T104449
CREATED:20241210T032934Z
LAST-MODIFIED:20241210T032934Z
UID:10000754-1737403200-1737408600@miestilobajio.com
SUMMARY:¡Nickelodeon está en ti! en la Feria de León
DESCRIPTION:¡La fiesta más grande de Nickelodeon está por comenzar! \n\n\n	Podría interesarte
URL:https://miestilobajio.com/event/nickelodeon-esta-en-ti-en-la-feria-de-leon-23/
LOCATION:Domo de la Feria de León\, Blvd. Adolfo Lopez Materos Oriente #1820\, León\, Guanajuato\, 37500\, Mexico
CATEGORIES:Teatro
ATTACH;FMTTYPE=image/jpeg:https://miestilobajio.com/wp-content/uploads/2024/12/24607_image_469706996_1518393725575033_2064433312068173816_n.jpg
END:VEVENT
BEGIN:VEVENT
DTSTART;TZID=America/Mexico_City:20250120T160000
DTEND;TZID=America/Mexico_City:20250120T173000
DTSTAMP:20260421T104449
CREATED:20241210T032934Z
LAST-MODIFIED:20241210T032934Z
UID:10000755-1737388800-1737394200@miestilobajio.com
SUMMARY:¡Nickelodeon está en ti! en la Feria de León
DESCRIPTION:¡La fiesta más grande de Nickelodeon está por comenzar! \n\n\n	Podría interesarte
URL:https://miestilobajio.com/event/nickelodeon-esta-en-ti-en-la-feria-de-leon-24/
LOCATION:Domo de la Feria de León\, Blvd. Adolfo Lopez Materos Oriente #1820\, León\, Guanajuato\, 37500\, Mexico
CATEGORIES:Teatro
ATTACH;FMTTYPE=image/jpeg:https://miestilobajio.com/wp-content/uploads/2024/12/24607_image_469706996_1518393725575033_2064433312068173816_n.jpg
END:VEVENT
BEGIN:VEVENT
DTSTART;TZID=America/Mexico_City:20250119T190000
DTEND;TZID=America/Mexico_City:20250119T203000
DTSTAMP:20260421T104449
CREATED:20241210T032935Z
LAST-MODIFIED:20241210T032935Z
UID:10000756-1737313200-1737318600@miestilobajio.com
SUMMARY:¡Nickelodeon está en ti! en la Feria de León
DESCRIPTION:¡La fiesta más grande de Nickelodeon está por comenzar! \n\n\n	Podría interesarte
URL:https://miestilobajio.com/event/nickelodeon-esta-en-ti-en-la-feria-de-leon-25/
LOCATION:Domo de la Feria de León\, Blvd. Adolfo Lopez Materos Oriente #1820\, León\, Guanajuato\, 37500\, Mexico
CATEGORIES:Teatro
ATTACH;FMTTYPE=image/jpeg:https://miestilobajio.com/wp-content/uploads/2024/12/24607_image_469706996_1518393725575033_2064433312068173816_n.jpg
END:VEVENT
BEGIN:VEVENT
DTSTART;TZID=America/Mexico_City:20250119T150000
DTEND;TZID=America/Mexico_City:20250119T163000
DTSTAMP:20260421T104449
CREATED:20241210T032935Z
LAST-MODIFIED:20241210T032935Z
UID:10000757-1737298800-1737304200@miestilobajio.com
SUMMARY:¡Nickelodeon está en ti! en la Feria de León
DESCRIPTION:¡La fiesta más grande de Nickelodeon está por comenzar! \n\n\n	Podría interesarte
URL:https://miestilobajio.com/event/nickelodeon-esta-en-ti-en-la-feria-de-leon-26/
LOCATION:Domo de la Feria de León\, Blvd. Adolfo Lopez Materos Oriente #1820\, León\, Guanajuato\, 37500\, Mexico
CATEGORIES:Teatro
ATTACH;FMTTYPE=image/jpeg:https://miestilobajio.com/wp-content/uploads/2024/12/24607_image_469706996_1518393725575033_2064433312068173816_n.jpg
END:VEVENT
BEGIN:VEVENT
DTSTART;TZID=America/Mexico_City:20250118T190000
DTEND;TZID=America/Mexico_City:20250118T203000
DTSTAMP:20260421T104449
CREATED:20241210T032936Z
LAST-MODIFIED:20241210T032936Z
UID:10000758-1737226800-1737232200@miestilobajio.com
SUMMARY:¡Nickelodeon está en ti! en la Feria de León
DESCRIPTION:¡La fiesta más grande de Nickelodeon está por comenzar! \n\n\n	Podría interesarte
URL:https://miestilobajio.com/event/nickelodeon-esta-en-ti-en-la-feria-de-leon-27/
LOCATION:Domo de la Feria de León\, Blvd. Adolfo Lopez Materos Oriente #1820\, León\, Guanajuato\, 37500\, Mexico
CATEGORIES:Teatro
ATTACH;FMTTYPE=image/jpeg:https://miestilobajio.com/wp-content/uploads/2024/12/24607_image_469706996_1518393725575033_2064433312068173816_n.jpg
END:VEVENT
BEGIN:VEVENT
DTSTART;TZID=America/Mexico_City:20250118T150000
DTEND;TZID=America/Mexico_City:20250118T163000
DTSTAMP:20260421T104449
CREATED:20241210T032937Z
LAST-MODIFIED:20241210T032937Z
UID:10000759-1737212400-1737217800@miestilobajio.com
SUMMARY:¡Nickelodeon está en ti! en la Feria de León
DESCRIPTION:¡La fiesta más grande de Nickelodeon está por comenzar! \n\n\n	Podría interesarte
URL:https://miestilobajio.com/event/nickelodeon-esta-en-ti-en-la-feria-de-leon-28/
LOCATION:Domo de la Feria de León\, Blvd. Adolfo Lopez Materos Oriente #1820\, León\, Guanajuato\, 37500\, Mexico
CATEGORIES:Teatro
ATTACH;FMTTYPE=image/jpeg:https://miestilobajio.com/wp-content/uploads/2024/12/24607_image_469706996_1518393725575033_2064433312068173816_n.jpg
END:VEVENT
BEGIN:VEVENT
DTSTART;TZID=America/Mexico_City:20250117T200000
DTEND;TZID=America/Mexico_City:20250117T213000
DTSTAMP:20260421T104449
CREATED:20241210T032937Z
LAST-MODIFIED:20241210T032937Z
UID:10000760-1737144000-1737149400@miestilobajio.com
SUMMARY:¡Nickelodeon está en ti! en la Feria de León
DESCRIPTION:¡La fiesta más grande de Nickelodeon está por comenzar! \n\n\n	Podría interesarte
URL:https://miestilobajio.com/event/nickelodeon-esta-en-ti-en-la-feria-de-leon-29/
LOCATION:Domo de la Feria de León\, Blvd. Adolfo Lopez Materos Oriente #1820\, León\, Guanajuato\, 37500\, Mexico
CATEGORIES:Teatro
ATTACH;FMTTYPE=image/jpeg:https://miestilobajio.com/wp-content/uploads/2024/12/24607_image_469706996_1518393725575033_2064433312068173816_n.jpg
END:VEVENT
BEGIN:VEVENT
DTSTART;TZID=America/Mexico_City:20250117T160000
DTEND;TZID=America/Mexico_City:20250117T173000
DTSTAMP:20260421T104449
CREATED:20241210T032938Z
LAST-MODIFIED:20241210T032938Z
UID:10000761-1737129600-1737135000@miestilobajio.com
SUMMARY:¡Nickelodeon está en ti! en la Feria de León
DESCRIPTION:¡La fiesta más grande de Nickelodeon está por comenzar! \n\n\n	Podría interesarte
URL:https://miestilobajio.com/event/nickelodeon-esta-en-ti-en-la-feria-de-leon-30/
LOCATION:Domo de la Feria de León\, Blvd. Adolfo Lopez Materos Oriente #1820\, León\, Guanajuato\, 37500\, Mexico
CATEGORIES:Teatro
ATTACH;FMTTYPE=image/jpeg:https://miestilobajio.com/wp-content/uploads/2024/12/24607_image_469706996_1518393725575033_2064433312068173816_n.jpg
END:VEVENT
BEGIN:VEVENT
DTSTART;TZID=America/Mexico_City:20250116T200000
DTEND;TZID=America/Mexico_City:20250116T213000
DTSTAMP:20260421T104449
CREATED:20241210T032938Z
LAST-MODIFIED:20241210T032938Z
UID:10000762-1737057600-1737063000@miestilobajio.com
SUMMARY:¡Nickelodeon está en ti! en la Feria de León
DESCRIPTION:¡La fiesta más grande de Nickelodeon está por comenzar! \n\n\n	Podría interesarte
URL:https://miestilobajio.com/event/nickelodeon-esta-en-ti-en-la-feria-de-leon-31/
LOCATION:Domo de la Feria de León\, Blvd. Adolfo Lopez Materos Oriente #1820\, León\, Guanajuato\, 37500\, Mexico
CATEGORIES:Teatro
ATTACH;FMTTYPE=image/jpeg:https://miestilobajio.com/wp-content/uploads/2024/12/24607_image_469706996_1518393725575033_2064433312068173816_n.jpg
END:VEVENT
BEGIN:VEVENT
DTSTART;TZID=America/Mexico_City:20250116T160000
DTEND;TZID=America/Mexico_City:20250116T173000
DTSTAMP:20260421T104449
CREATED:20241210T032938Z
LAST-MODIFIED:20241210T032938Z
UID:10000763-1737043200-1737048600@miestilobajio.com
SUMMARY:¡Nickelodeon está en ti! en la Feria de León
DESCRIPTION:¡La fiesta más grande de Nickelodeon está por comenzar! \n\n\n	Podría interesarte
URL:https://miestilobajio.com/event/nickelodeon-esta-en-ti-en-la-feria-de-leon-32/
LOCATION:Domo de la Feria de León\, Blvd. Adolfo Lopez Materos Oriente #1820\, León\, Guanajuato\, 37500\, Mexico
CATEGORIES:Teatro
ATTACH;FMTTYPE=image/jpeg:https://miestilobajio.com/wp-content/uploads/2024/12/24607_image_469706996_1518393725575033_2064433312068173816_n.jpg
END:VEVENT
BEGIN:VEVENT
DTSTART;TZID=America/Mexico_City:20250115T200000
DTEND;TZID=America/Mexico_City:20250115T213000
DTSTAMP:20260421T104449
CREATED:20241210T032939Z
LAST-MODIFIED:20241210T032939Z
UID:10000764-1736971200-1736976600@miestilobajio.com
SUMMARY:¡Nickelodeon está en ti! en la Feria de León
DESCRIPTION:¡La fiesta más grande de Nickelodeon está por comenzar! \n\n\n	Podría interesarte
URL:https://miestilobajio.com/event/nickelodeon-esta-en-ti-en-la-feria-de-leon-33/
LOCATION:Domo de la Feria de León\, Blvd. Adolfo Lopez Materos Oriente #1820\, León\, Guanajuato\, 37500\, Mexico
CATEGORIES:Teatro
ATTACH;FMTTYPE=image/jpeg:https://miestilobajio.com/wp-content/uploads/2024/12/24607_image_469706996_1518393725575033_2064433312068173816_n.jpg
END:VEVENT
BEGIN:VEVENT
DTSTART;TZID=America/Mexico_City:20250115T160000
DTEND;TZID=America/Mexico_City:20250115T173000
DTSTAMP:20260421T104449
CREATED:20241210T032939Z
LAST-MODIFIED:20241210T032939Z
UID:10000765-1736956800-1736962200@miestilobajio.com
SUMMARY:¡Nickelodeon está en ti! en la Feria de León
DESCRIPTION:¡La fiesta más grande de Nickelodeon está por comenzar! \n\n\n	Podría interesarte
URL:https://miestilobajio.com/event/nickelodeon-esta-en-ti-en-la-feria-de-leon-34/
LOCATION:Domo de la Feria de León\, Blvd. Adolfo Lopez Materos Oriente #1820\, León\, Guanajuato\, 37500\, Mexico
CATEGORIES:Teatro
ATTACH;FMTTYPE=image/jpeg:https://miestilobajio.com/wp-content/uploads/2024/12/24607_image_469706996_1518393725575033_2064433312068173816_n.jpg
END:VEVENT
BEGIN:VEVENT
DTSTART;TZID=America/Mexico_City:20250114T200000
DTEND;TZID=America/Mexico_City:20250114T213000
DTSTAMP:20260421T104449
CREATED:20241210T032940Z
LAST-MODIFIED:20241210T032940Z
UID:10000766-1736884800-1736890200@miestilobajio.com
SUMMARY:¡Nickelodeon está en ti! en la Feria de León
DESCRIPTION:¡La fiesta más grande de Nickelodeon está por comenzar! \n\n\n	Podría interesarte
URL:https://miestilobajio.com/event/nickelodeon-esta-en-ti-en-la-feria-de-leon-35/
LOCATION:Domo de la Feria de León\, Blvd. Adolfo Lopez Materos Oriente #1820\, León\, Guanajuato\, 37500\, Mexico
CATEGORIES:Teatro
ATTACH;FMTTYPE=image/jpeg:https://miestilobajio.com/wp-content/uploads/2024/12/24607_image_469706996_1518393725575033_2064433312068173816_n.jpg
END:VEVENT
BEGIN:VEVENT
DTSTART;TZID=America/Mexico_City:20250114T160000
DTEND;TZID=America/Mexico_City:20250114T173000
DTSTAMP:20260421T104449
CREATED:20241210T032940Z
LAST-MODIFIED:20241210T032940Z
UID:10000767-1736870400-1736875800@miestilobajio.com
SUMMARY:¡Nickelodeon está en ti! en la Feria de León
DESCRIPTION:¡La fiesta más grande de Nickelodeon está por comenzar! \n\n\n	Podría interesarte
URL:https://miestilobajio.com/event/nickelodeon-esta-en-ti-en-la-feria-de-leon-36/
LOCATION:Domo de la Feria de León\, Blvd. Adolfo Lopez Materos Oriente #1820\, León\, Guanajuato\, 37500\, Mexico
CATEGORIES:Teatro
ATTACH;FMTTYPE=image/jpeg:https://miestilobajio.com/wp-content/uploads/2024/12/24607_image_469706996_1518393725575033_2064433312068173816_n.jpg
END:VEVENT
BEGIN:VEVENT
DTSTART;TZID=America/Mexico_City:20250113T200000
DTEND;TZID=America/Mexico_City:20250113T213000
DTSTAMP:20260421T104449
CREATED:20241210T032941Z
LAST-MODIFIED:20241210T032941Z
UID:10000768-1736798400-1736803800@miestilobajio.com
SUMMARY:¡Nickelodeon está en ti! en la Feria de León
DESCRIPTION:¡La fiesta más grande de Nickelodeon está por comenzar! \n\n\n	Podría interesarte
URL:https://miestilobajio.com/event/nickelodeon-esta-en-ti-en-la-feria-de-leon-37/
LOCATION:Domo de la Feria de León\, Blvd. Adolfo Lopez Materos Oriente #1820\, León\, Guanajuato\, 37500\, Mexico
CATEGORIES:Teatro
ATTACH;FMTTYPE=image/jpeg:https://miestilobajio.com/wp-content/uploads/2024/12/24607_image_469706996_1518393725575033_2064433312068173816_n.jpg
END:VEVENT
BEGIN:VEVENT
DTSTART;TZID=America/Mexico_City:20250113T160000
DTEND;TZID=America/Mexico_City:20250113T173000
DTSTAMP:20260421T104449
CREATED:20241210T032941Z
LAST-MODIFIED:20241210T032941Z
UID:10000769-1736784000-1736789400@miestilobajio.com
SUMMARY:¡Nickelodeon está en ti! en la Feria de León
DESCRIPTION:¡La fiesta más grande de Nickelodeon está por comenzar! \n\n\n	Podría interesarte
URL:https://miestilobajio.com/event/nickelodeon-esta-en-ti-en-la-feria-de-leon-38/
LOCATION:Domo de la Feria de León\, Blvd. Adolfo Lopez Materos Oriente #1820\, León\, Guanajuato\, 37500\, Mexico
CATEGORIES:Teatro
ATTACH;FMTTYPE=image/jpeg:https://miestilobajio.com/wp-content/uploads/2024/12/24607_image_469706996_1518393725575033_2064433312068173816_n.jpg
END:VEVENT
BEGIN:VEVENT
DTSTART;TZID=America/Mexico_City:20250112T190000
DTEND;TZID=America/Mexico_City:20250112T203000
DTSTAMP:20260421T104449
CREATED:20241210T032942Z
LAST-MODIFIED:20241210T032942Z
UID:10000770-1736708400-1736713800@miestilobajio.com
SUMMARY:¡Nickelodeon está en ti! en la Feria de León
DESCRIPTION:¡La fiesta más grande de Nickelodeon está por comenzar! \n\n\n	Podría interesarte
URL:https://miestilobajio.com/event/nickelodeon-esta-en-ti-en-la-feria-de-leon-39/
LOCATION:Domo de la Feria de León\, Blvd. Adolfo Lopez Materos Oriente #1820\, León\, Guanajuato\, 37500\, Mexico
CATEGORIES:Teatro
ATTACH;FMTTYPE=image/jpeg:https://miestilobajio.com/wp-content/uploads/2024/12/24607_image_469706996_1518393725575033_2064433312068173816_n.jpg
END:VEVENT
BEGIN:VEVENT
DTSTART;TZID=America/Mexico_City:20250112T150000
DTEND;TZID=America/Mexico_City:20250112T163000
DTSTAMP:20260421T104449
CREATED:20241210T032942Z
LAST-MODIFIED:20241210T032942Z
UID:10000771-1736694000-1736699400@miestilobajio.com
SUMMARY:¡Nickelodeon está en ti! en la Feria de León
DESCRIPTION:¡La fiesta más grande de Nickelodeon está por comenzar! \n\n\n	Podría interesarte
URL:https://miestilobajio.com/event/nickelodeon-esta-en-ti-en-la-feria-de-leon-40/
LOCATION:Domo de la Feria de León\, Blvd. Adolfo Lopez Materos Oriente #1820\, León\, Guanajuato\, 37500\, Mexico
CATEGORIES:Teatro
ATTACH;FMTTYPE=image/jpeg:https://miestilobajio.com/wp-content/uploads/2024/12/24607_image_469706996_1518393725575033_2064433312068173816_n.jpg
END:VEVENT
BEGIN:VEVENT
DTSTART;TZID=America/Mexico_City:20250111T190000
DTEND;TZID=America/Mexico_City:20250111T203000
DTSTAMP:20260421T104449
CREATED:20241210T032943Z
LAST-MODIFIED:20241210T032943Z
UID:10000772-1736622000-1736627400@miestilobajio.com
SUMMARY:¡Nickelodeon está en ti! en la Feria de León
DESCRIPTION:¡La fiesta más grande de Nickelodeon está por comenzar! \n\n\n	Podría interesarte
URL:https://miestilobajio.com/event/nickelodeon-esta-en-ti-en-la-feria-de-leon-41/
LOCATION:Domo de la Feria de León\, Blvd. Adolfo Lopez Materos Oriente #1820\, León\, Guanajuato\, 37500\, Mexico
CATEGORIES:Teatro
ATTACH;FMTTYPE=image/jpeg:https://miestilobajio.com/wp-content/uploads/2024/12/24607_image_469706996_1518393725575033_2064433312068173816_n.jpg
END:VEVENT
BEGIN:VEVENT
DTSTART;TZID=America/Mexico_City:20250111T150000
DTEND;TZID=America/Mexico_City:20250111T163000
DTSTAMP:20260421T104449
CREATED:20241210T032943Z
LAST-MODIFIED:20241210T032943Z
UID:10000773-1736607600-1736613000@miestilobajio.com
SUMMARY:¡Nickelodeon está en ti! en la Feria de León
DESCRIPTION:¡La fiesta más grande de Nickelodeon está por comenzar! \n\n\n	Podría interesarte
URL:https://miestilobajio.com/event/nickelodeon-esta-en-ti-en-la-feria-de-leon-42/
LOCATION:Domo de la Feria de León\, Blvd. Adolfo Lopez Materos Oriente #1820\, León\, Guanajuato\, 37500\, Mexico
CATEGORIES:Teatro
ATTACH;FMTTYPE=image/jpeg:https://miestilobajio.com/wp-content/uploads/2024/12/24607_image_469706996_1518393725575033_2064433312068173816_n.jpg
END:VEVENT
BEGIN:VEVENT
DTSTART;TZID=America/Mexico_City:20250110T200000
DTEND;TZID=America/Mexico_City:20250110T213000
DTSTAMP:20260421T104449
CREATED:20241210T032944Z
LAST-MODIFIED:20241210T032944Z
UID:10000774-1736539200-1736544600@miestilobajio.com
SUMMARY:¡Nickelodeon está en ti! en la Feria de León
DESCRIPTION:¡La fiesta más grande de Nickelodeon está por comenzar! \n\n\n	Podría interesarte
URL:https://miestilobajio.com/event/nickelodeon-esta-en-ti-en-la-feria-de-leon-43/
LOCATION:Domo de la Feria de León\, Blvd. Adolfo Lopez Materos Oriente #1820\, León\, Guanajuato\, 37500\, Mexico
CATEGORIES:Teatro
ATTACH;FMTTYPE=image/jpeg:https://miestilobajio.com/wp-content/uploads/2024/12/24607_image_469706996_1518393725575033_2064433312068173816_n.jpg
END:VEVENT
BEGIN:VEVENT
DTSTART;TZID=America/Mexico_City:20250110T160000
DTEND;TZID=America/Mexico_City:20250110T173000
DTSTAMP:20260421T104449
CREATED:20241210T032944Z
LAST-MODIFIED:20241210T032944Z
UID:10000775-1736524800-1736530200@miestilobajio.com
SUMMARY:¡Nickelodeon está en ti! en la Feria de León
DESCRIPTION:¡La fiesta más grande de Nickelodeon está por comenzar! \n\n\n	Podría interesarte
URL:https://miestilobajio.com/event/nickelodeon-esta-en-ti-en-la-feria-de-leon-44/
LOCATION:Domo de la Feria de León\, Blvd. Adolfo Lopez Materos Oriente #1820\, León\, Guanajuato\, 37500\, Mexico
CATEGORIES:Teatro
ATTACH;FMTTYPE=image/jpeg:https://miestilobajio.com/wp-content/uploads/2024/12/24607_image_469706996_1518393725575033_2064433312068173816_n.jpg
END:VEVENT
BEGIN:VEVENT
DTSTART;TZID=America/Mexico_City:20241116T210000
DTEND;TZID=America/Mexico_City:20241116T210000
DTSTAMP:20260421T104449
CREATED:20241101T044600Z
LAST-MODIFIED:20241101T044628Z
UID:10000604-1731790800-1731790800@miestilobajio.com
SUMMARY:El Malilla en Domo Feria León
DESCRIPTION:El cantante originario de Chalco\, Estado de México\, se ha posicionado como un referente del reggaetón mexicano\, gracias a su estilo y dedicación. Si bien sus inicios estuvieron marcados por el freestyle y el rap\, Fernando ha forjado su camino como una de las figuras más prometedoras del reggaetón underground mexicano. \n¡No te lo pierdas\, el 16 de noviembre en el Domo de la Feria de León! \n\n\n	Podría interesarte
URL:https://miestilobajio.com/event/el-malilla-en-domo-feria-leon/
LOCATION:Domo de la Feria de León\, Blvd. Adolfo Lopez Materos Oriente #1820\, León\, Guanajuato\, 37500\, Mexico
CATEGORIES:Concierto
ATTACH;FMTTYPE=image/jpeg:https://miestilobajio.com/wp-content/uploads/2024/10/22588_image_465229797_1491758308238575_374684313428341077_n.jpg
END:VEVENT
BEGIN:VEVENT
DTSTART;TZID=America/Mexico_City:20241103T173000
DTEND;TZID=America/Mexico_City:20241103T173000
DTSTAMP:20260421T104449
CREATED:20240930T030258Z
LAST-MODIFIED:20240930T181736Z
UID:10000587-1730655000-1730655000@miestilobajio.com
SUMMARY:Luli Pampin - El Libro Musican en Domo Feria León
DESCRIPTION:Regresa Luli Pampin para presentar su nuevo show “El Libro Musical”\, en este show podremos disfrutar las canciones favoritas de los consentidos de la casa acompañadas de una gran producción\, ven a conocer a Polvoso\, un monstruo enorme que le encanta comer libros\, ¡No te lo puedes perder! \n\n\n	Podría interesarte
URL:https://miestilobajio.com/event/luli-pampin-el-libro-musican-en-domo-feria-leon/
LOCATION:Domo de la Feria de León\, Blvd. Adolfo Lopez Materos Oriente #1820\, León\, Guanajuato\, 37500\, Mexico
CATEGORIES:Concierto
ATTACH;FMTTYPE=image/jpeg:https://miestilobajio.com/wp-content/uploads/2024/09/22056_image_461760629_1468294413918298_3430867329175857487_n.jpg
END:VEVENT
END:VCALENDAR