BEGIN:VCALENDAR
VERSION:2.0
PRODID:-//Mi Estilo Bajío - ECPv6.15.20//NONSGML v1.0//EN
CALSCALE:GREGORIAN
METHOD:PUBLISH
X-ORIGINAL-URL:https://miestilobajio.com
X-WR-CALDESC:Eventos para Mi Estilo Bajío
REFRESH-INTERVAL;VALUE=DURATION:PT1H
X-Robots-Tag:noindex
X-PUBLISHED-TTL:PT1H
BEGIN:VTIMEZONE
TZID:America/Mexico_City
BEGIN:STANDARD
TZOFFSETFROM:-0600
TZOFFSETTO:-0600
TZNAME:CST
DTSTART:20250101T000000
END:STANDARD
END:VTIMEZONE
BEGIN:VEVENT
DTSTART;TZID=America/Mexico_City:20261002T210000
DTEND;TZID=America/Mexico_City:20261002T210000
DTSTAMP:20260423T052531
CREATED:20251211T135549Z
LAST-MODIFIED:20251211T135659Z
UID:10001268-1790974800-1790974800@miestilobajio.com
SUMMARY:Humbe en la Velaria de la Feria de León
DESCRIPTION:Humbe llegará a la ciudad el 2 de octubre de 2026 para presentar su “Dueño del Cielo Tour”\, una gira que lo ha llevado a conectar con audiencias en distintas regiones del país.
URL:https://miestilobajio.com/event/humbe-en-la-velaria-de-la-feria-de-leon/
LOCATION:Velaria de la Feria de León\, Bulevar Paseo de los Niños 111\, Zona Recreativa y Cultural\, León\, Guanajuato\, 37500\, Mexico
CATEGORIES:Concierto
ATTACH;FMTTYPE=image/jpeg:https://miestilobajio.com/wp-content/uploads/2025/12/53255_image_598347513_1797387747675628_1380012894505438199_n.jpg
END:VEVENT
END:VCALENDAR