BEGIN:VCALENDAR
VERSION:2.0
PRODID:-//Mi Estilo Bajío - ECPv6.15.20//NONSGML v1.0//EN
CALSCALE:GREGORIAN
METHOD:PUBLISH
X-ORIGINAL-URL:https://miestilobajio.com
X-WR-CALDESC:Eventos para Mi Estilo Bajío
REFRESH-INTERVAL;VALUE=DURATION:PT1H
X-Robots-Tag:noindex
X-PUBLISHED-TTL:PT1H
BEGIN:VTIMEZONE
TZID:America/Mexico_City
BEGIN:STANDARD
TZOFFSETFROM:-0600
TZOFFSETTO:-0600
TZNAME:CST
DTSTART:20250101T000000
END:STANDARD
END:VTIMEZONE
BEGIN:VEVENT
DTSTART;TZID=America/Mexico_City:20260529T210000
DTEND;TZID=America/Mexico_City:20260529T210000
DTSTAMP:20260425T175612
CREATED:20260402T185134Z
LAST-MODIFIED:20260402T185608Z
UID:10001317-1780088400-1780088400@miestilobajio.com
SUMMARY:Myke Towers en la Velaria de la Feria de León
DESCRIPTION:Las canciones “LALA”\, “La Falda”\, “Girl” y “Experimento” forman parte del repertorio que el público escucha en plataformas y redes. Ahora esos temas llegarán a un escenario de León\, donde el cantante Myke Towers se presentará por primera vez.
URL:https://miestilobajio.com/event/myke-towers-en-la-velaria-de-la-feria-de-leon/
LOCATION:Velaria de la Feria de León\, Bulevar Paseo de los Niños 111\, Zona Recreativa y Cultural\, León\, Guanajuato\, 37500\, Mexico
ATTACH;FMTTYPE=image/jpeg:https://miestilobajio.com/wp-content/uploads/2026/04/60607_image_659658809_1885965305484538_4013751388957398117_n.jpg
END:VEVENT
BEGIN:VEVENT
DTSTART;TZID=America/Mexico_City:20260529T210000
DTEND;TZID=America/Mexico_City:20260529T230000
DTSTAMP:20260425T175612
CREATED:20260412T041134Z
LAST-MODIFIED:20260412T041134Z
UID:10001354-1780088400-1780095600@miestilobajio.com
SUMMARY:Usted Señálemelo en Foro Paruno
DESCRIPTION:¡Llega a a Foro Paruno USTED SEÑÁLEMELO en León este 29 de mayo del 2026\, no te lo puedes perder!
URL:https://miestilobajio.com/event/usted-senalemelo-en-foro-paruno/
LOCATION:Foro Paruno Central de Música\, Blvd. Juan Alonso de Torres Pte. 224\, León\, 37148\, Mexico
CATEGORIES:Concierto
ATTACH;FMTTYPE=image/webp:https://miestilobajio.com/wp-content/uploads/2026/04/Captura_de_Pantalla_2026-03-18_a_la_s_11.51.37_500x.webp
END:VEVENT
BEGIN:VEVENT
DTSTART;TZID=America/Mexico_City:20260530T200000
DTEND;TZID=America/Mexico_City:20260530T200000
DTSTAMP:20260425T175612
CREATED:20260404T172601Z
LAST-MODIFIED:20260404T173213Z
UID:10001320-1780171200-1780171200@miestilobajio.com
SUMMARY:Camilo en el Domo de la Feria de León
DESCRIPTION:El intérprete de temas como “Tutu”\, “Vida de Rico” e “Índigo” traerá a la ciudad un espectáculo que combina sensibilidad\, autenticidad y una energía única sobre el escenario. \nCon una carrera en constante ascenso\, Camilo se ha consolidado como una de las figuras más importantes de la música latina actual\, gracias a su estilo cercano y letras que conectan con distintas generaciones.
URL:https://miestilobajio.com/event/camilo-en-el-domo-de-la-feria-de-leon/
LOCATION:Domo de la Feria de León\, Blvd. Adolfo Lopez Materos Oriente #1820\, León\, Guanajuato\, 37500\, Mexico
CATEGORIES:Concierto
ATTACH;FMTTYPE=image/jpeg:https://miestilobajio.com/wp-content/uploads/2026/04/60674_image_659683520_1887529865328082_8653898447987279538_n.jpg
END:VEVENT
BEGIN:VEVENT
DTSTART;TZID=America/Mexico_City:20260530T210000
DTEND;TZID=America/Mexico_City:20260530T210000
DTSTAMP:20260425T175612
CREATED:20260402T014502Z
LAST-MODIFIED:20260402T014617Z
UID:10001315-1780174800-1780174800@miestilobajio.com
SUMMARY:Cristian Castro en la Velaria de la Feria de León
DESCRIPTION:Cristian Castro es uno de los intérpretes más reconocidos de México\, el cual goza de una amplia trayectoria desde la década de los ochentas. Es hijo de la legendaria Verónica Castro y Manuel “El loco” Valdés. \nEntre sus éxitos más reconocidos se encuentran temas como “Por amarte así”\, “Lo mejor de mi” y “Azul”. \nSus conciertos siempre están llenos de emoción y sentimiento\, que son acompañados de la presencia escénica con la que cuenta.
URL:https://miestilobajio.com/event/cristian-castro-en-la-velaria-de-la-feria-de-leon/
LOCATION:Velaria de la Feria de León\, Bulevar Paseo de los Niños 111\, Zona Recreativa y Cultural\, León\, Guanajuato\, 37500\, Mexico
CATEGORIES:Concierto
ATTACH;FMTTYPE=image/jpeg:https://miestilobajio.com/wp-content/uploads/2026/04/60600_image_663262891_1885352812212454_7279475174050301665_n.jpg
END:VEVENT
BEGIN:VEVENT
DTSTART;TZID=America/Mexico_City:20260530T210000
DTEND;TZID=America/Mexico_City:20260530T230000
DTSTAMP:20260425T175612
CREATED:20260412T041946Z
LAST-MODIFIED:20260412T041946Z
UID:10001356-1780174800-1780182000@miestilobajio.com
SUMMARY:Kurt en Foro Paruno
DESCRIPTION:KURT\, nombre artístico de Kurt Schmidt Ramos\, es un cantautor originario de Culiacán que se ha consolidado como una de las promesas más destacadas del pop en español. Desde el lanzamiento de su primera canción en 2014\, ha construido una sólida trayectoria que lo ha llevado a conquistar a millones de oyentes en México y América Latina.
URL:https://miestilobajio.com/event/kurt-en-foro-paruno/
LOCATION:Foro Paruno Central de Música\, Blvd. Juan Alonso de Torres Pte. 224\, León\, 37148\, Mexico
CATEGORIES:Concierto
ATTACH;FMTTYPE=image/jpeg:https://miestilobajio.com/wp-content/uploads/2026/04/kurt.jpg
END:VEVENT
END:VCALENDAR