BEGIN:VCALENDAR
VERSION:2.0
PRODID:-//Mi Estilo Bajío - ECPv6.15.20//NONSGML v1.0//EN
CALSCALE:GREGORIAN
METHOD:PUBLISH
X-ORIGINAL-URL:https://miestilobajio.com
X-WR-CALDESC:Eventos para Mi Estilo Bajío
REFRESH-INTERVAL;VALUE=DURATION:PT1H
X-Robots-Tag:noindex
X-PUBLISHED-TTL:PT1H
BEGIN:VTIMEZONE
TZID:America/Mexico_City
BEGIN:STANDARD
TZOFFSETFROM:-0600
TZOFFSETTO:-0600
TZNAME:CST
DTSTART:20240101T000000
END:STANDARD
END:VTIMEZONE
BEGIN:VEVENT
DTSTART;TZID=America/Mexico_City:20250916T090000
DTEND;TZID=America/Mexico_City:20250916T180000
DTSTAMP:20260419T235713
CREATED:20250905T165347Z
LAST-MODIFIED:20250905T165352Z
UID:10001060-1758013200-1758045600@miestilobajio.com
SUMMARY:Body Worlds: Animal Inside Out en Explora León
DESCRIPTION:Descubre el asombroso mundo de la anatomía animal desde una perspectiva única. Curada por la Dra. Angelina Whalley y basada en la plastinación del Dr. Gunther von Hagens\, la exposición permite observar más de 100 animales sin piel\, revelando músculos\, órganos y sistemas internos con precisión científica. \nPresentada en museos de Europa y Norteamérica\, llega a Explora del 12 de septiembre al 15 de febrero de 2026. Destacan una jirafa de 5 metros\, un calamar gigante y un toro con un corazón cinco veces más grande que el humano. Todos los animales provienen de zoológicos y centros de conservación; ninguno fue sacrificado.
URL:https://miestilobajio.com/event/body-worlds-animal-inside-out-en-explora-leon-31/
LOCATION:Explora León\, Blvd. Francisco Villa 202 Col. La Martinica\, León\, Guanajuato\, 37500\, Mexico
CATEGORIES:Exposición
ATTACH;FMTTYPE=image/jpeg:https://miestilobajio.com/wp-content/uploads/2025/09/47002_image_542757910_1717547335659670_4320353641299724801_n.jpg
END:VEVENT
BEGIN:VEVENT
DTSTART;TZID=America/Mexico_City:20250917T090000
DTEND;TZID=America/Mexico_City:20250917T180000
DTSTAMP:20260419T235713
CREATED:20250905T165347Z
LAST-MODIFIED:20250905T165352Z
UID:10001059-1758099600-1758132000@miestilobajio.com
SUMMARY:Body Worlds: Animal Inside Out en Explora León
DESCRIPTION:Descubre el asombroso mundo de la anatomía animal desde una perspectiva única. Curada por la Dra. Angelina Whalley y basada en la plastinación del Dr. Gunther von Hagens\, la exposición permite observar más de 100 animales sin piel\, revelando músculos\, órganos y sistemas internos con precisión científica. \nPresentada en museos de Europa y Norteamérica\, llega a Explora del 12 de septiembre al 15 de febrero de 2026. Destacan una jirafa de 5 metros\, un calamar gigante y un toro con un corazón cinco veces más grande que el humano. Todos los animales provienen de zoológicos y centros de conservación; ninguno fue sacrificado.
URL:https://miestilobajio.com/event/body-worlds-animal-inside-out-en-explora-leon-30/
LOCATION:Explora León\, Blvd. Francisco Villa 202 Col. La Martinica\, León\, Guanajuato\, 37500\, Mexico
CATEGORIES:Exposición
ATTACH;FMTTYPE=image/jpeg:https://miestilobajio.com/wp-content/uploads/2025/09/47002_image_542757910_1717547335659670_4320353641299724801_n.jpg
END:VEVENT
BEGIN:VEVENT
DTSTART;TZID=America/Mexico_City:20250918T090000
DTEND;TZID=America/Mexico_City:20250918T180000
DTSTAMP:20260419T235713
CREATED:20250905T165346Z
LAST-MODIFIED:20250905T165351Z
UID:10001058-1758186000-1758218400@miestilobajio.com
SUMMARY:Body Worlds: Animal Inside Out en Explora León
DESCRIPTION:Descubre el asombroso mundo de la anatomía animal desde una perspectiva única. Curada por la Dra. Angelina Whalley y basada en la plastinación del Dr. Gunther von Hagens\, la exposición permite observar más de 100 animales sin piel\, revelando músculos\, órganos y sistemas internos con precisión científica. \nPresentada en museos de Europa y Norteamérica\, llega a Explora del 12 de septiembre al 15 de febrero de 2026. Destacan una jirafa de 5 metros\, un calamar gigante y un toro con un corazón cinco veces más grande que el humano. Todos los animales provienen de zoológicos y centros de conservación; ninguno fue sacrificado.
URL:https://miestilobajio.com/event/body-worlds-animal-inside-out-en-explora-leon-29/
LOCATION:Explora León\, Blvd. Francisco Villa 202 Col. La Martinica\, León\, Guanajuato\, 37500\, Mexico
CATEGORIES:Exposición
ATTACH;FMTTYPE=image/jpeg:https://miestilobajio.com/wp-content/uploads/2025/09/47002_image_542757910_1717547335659670_4320353641299724801_n.jpg
END:VEVENT
BEGIN:VEVENT
DTSTART;TZID=America/Mexico_City:20250919T090000
DTEND;TZID=America/Mexico_City:20250919T180000
DTSTAMP:20260419T235713
CREATED:20250905T165346Z
LAST-MODIFIED:20250905T165351Z
UID:10001057-1758272400-1758304800@miestilobajio.com
SUMMARY:Body Worlds: Animal Inside Out en Explora León
DESCRIPTION:Descubre el asombroso mundo de la anatomía animal desde una perspectiva única. Curada por la Dra. Angelina Whalley y basada en la plastinación del Dr. Gunther von Hagens\, la exposición permite observar más de 100 animales sin piel\, revelando músculos\, órganos y sistemas internos con precisión científica. \nPresentada en museos de Europa y Norteamérica\, llega a Explora del 12 de septiembre al 15 de febrero de 2026. Destacan una jirafa de 5 metros\, un calamar gigante y un toro con un corazón cinco veces más grande que el humano. Todos los animales provienen de zoológicos y centros de conservación; ninguno fue sacrificado.
URL:https://miestilobajio.com/event/body-worlds-animal-inside-out-en-explora-leon-28/
LOCATION:Explora León\, Blvd. Francisco Villa 202 Col. La Martinica\, León\, Guanajuato\, 37500\, Mexico
CATEGORIES:Exposición
ATTACH;FMTTYPE=image/jpeg:https://miestilobajio.com/wp-content/uploads/2025/09/47002_image_542757910_1717547335659670_4320353641299724801_n.jpg
END:VEVENT
BEGIN:VEVENT
DTSTART;TZID=America/Mexico_City:20250920T190000
DTEND;TZID=America/Mexico_City:20250920T220000
DTSTAMP:20260419T235713
CREATED:20250824T203535Z
LAST-MODIFIED:20250824T203538Z
UID:10001021-1758394800-1758405600@miestilobajio.com
SUMMARY:Velada Astronómica en Explora León
DESCRIPTION:¡Una noche bajo las estrellas como ninguna otra! El Centro de Ciencias invita a toda la familia a disfrutar de la Velada Astronómica\, con la obra de teatro “Ilhuicaātl\, Las estrellas brillan”\, proyecciones fascinantes\, talleres interactivos y deliciosos snacks estilo picnic 🍿🌠.
URL:https://miestilobajio.com/event/velada-astronomica-en-explora-leon/
LOCATION:Explora León\, Blvd. Francisco Villa 202 Col. La Martinica\, León\, Guanajuato\, 37500\, Mexico
CATEGORIES:Festival
ATTACH;FMTTYPE=image/jpeg:https://miestilobajio.com/wp-content/uploads/2025/08/46660_image_535903798_1708230493258021_7142904766874993194_n.jpg
END:VEVENT
BEGIN:VEVENT
DTSTART;TZID=America/Mexico_City:20250920T210000
DTEND;TZID=America/Mexico_City:20250920T210000
DTSTAMP:20260419T235713
CREATED:20250501T031141Z
LAST-MODIFIED:20250501T031246Z
UID:10000955-1758402000-1758402000@miestilobajio.com
SUMMARY:Bobby Pulido en el Domo de la Feria de León
DESCRIPTION:Bobby Pulido es una de las figuras más icónicas de la música tejana\, revolucionando con un estilo que fusiona el tex-mex con influencias del pop y la música norteña.
URL:https://miestilobajio.com/event/bobby-pulido-en-el-domo-de-la-feria-de-leon/
LOCATION:Domo de la Feria de León\, Blvd. Adolfo Lopez Materos Oriente #1820\, León\, Guanajuato\, 37500\, Mexico
CATEGORIES:Concierto
ATTACH;FMTTYPE=image/jpeg:https://miestilobajio.com/wp-content/uploads/2025/04/42950_image_493070535_1620915825322822_7985348376972808399_n.jpg
END:VEVENT
END:VCALENDAR