BEGIN:VCALENDAR
VERSION:2.0
PRODID:-//Mi Estilo Bajío - ECPv6.15.20//NONSGML v1.0//EN
CALSCALE:GREGORIAN
METHOD:PUBLISH
X-ORIGINAL-URL:https://miestilobajio.com
X-WR-CALDESC:Eventos para Mi Estilo Bajío
REFRESH-INTERVAL;VALUE=DURATION:PT1H
X-Robots-Tag:noindex
X-PUBLISHED-TTL:PT1H
BEGIN:VTIMEZONE
TZID:America/New_York
BEGIN:DAYLIGHT
TZOFFSETFROM:-0500
TZOFFSETTO:-0400
TZNAME:EDT
DTSTART:20220313T070000
END:DAYLIGHT
BEGIN:STANDARD
TZOFFSETFROM:-0400
TZOFFSETTO:-0500
TZNAME:EST
DTSTART:20221106T060000
END:STANDARD
BEGIN:DAYLIGHT
TZOFFSETFROM:-0500
TZOFFSETTO:-0400
TZNAME:EDT
DTSTART:20230312T070000
END:DAYLIGHT
BEGIN:STANDARD
TZOFFSETFROM:-0400
TZOFFSETTO:-0500
TZNAME:EST
DTSTART:20231105T060000
END:STANDARD
BEGIN:DAYLIGHT
TZOFFSETFROM:-0500
TZOFFSETTO:-0400
TZNAME:EDT
DTSTART:20240310T070000
END:DAYLIGHT
BEGIN:STANDARD
TZOFFSETFROM:-0400
TZOFFSETTO:-0500
TZNAME:EST
DTSTART:20241103T060000
END:STANDARD
END:VTIMEZONE
BEGIN:VEVENT
DTSTART;TZID=America/New_York:20230610T210000
DTEND;TZID=America/New_York:20230610T210000
DTSTAMP:20260419T162646
CREATED:20230609T005324Z
LAST-MODIFIED:20230609T005324Z
UID:10000400-1686430800-1686430800@miestilobajio.com
SUMMARY:Tributo a Gloria Trevi & Alejandra Guzmán 🌈
DESCRIPTION:Los mejores éxitos de GLORIA TREVI y ALEJANDRA GUZMÁN interpretados por Cabaret Metro para celebrar el #Pride. 🌈 \n🪙 Cover $50 (mujeres no cover).\n📲 Reserva enviando mensaje directo a Red Mosquito POP.
URL:https://miestilobajio.com/event/tributo-a-gloria-trevi-alejandra-guzman-%f0%9f%8c%88/
LOCATION:Red Mosquito POP\, Boulevard Campestre 40\, León\, 37148\, MX
CATEGORIES:Concierto
ATTACH;FMTTYPE=image/jpeg:https://miestilobajio.com/wp-content/uploads/2023/06/15891_image_352796070_1189902031757539_368434265269989107_n.jpg
END:VEVENT
END:VCALENDAR