BEGIN:VCALENDAR
VERSION:2.0
PRODID:-//Mi Estilo Bajío - ECPv6.15.20//NONSGML v1.0//EN
CALSCALE:GREGORIAN
METHOD:PUBLISH
X-WR-CALNAME:Mi Estilo Bajío
X-ORIGINAL-URL:https://miestilobajio.com
X-WR-CALDESC:Eventos para Mi Estilo Bajío
REFRESH-INTERVAL;VALUE=DURATION:PT1H
X-Robots-Tag:noindex
X-PUBLISHED-TTL:PT1H
BEGIN:VTIMEZONE
TZID:America/Mexico_City
BEGIN:STANDARD
TZOFFSETFROM:-0600
TZOFFSETTO:-0600
TZNAME:CST
DTSTART:20250101T000000
END:STANDARD
END:VTIMEZONE
BEGIN:VEVENT
DTSTART;TZID=America/Mexico_City:20260605T210000
DTEND;TZID=America/Mexico_City:20260605T230000
DTSTAMP:20260423T052012
CREATED:20260412T042215Z
LAST-MODIFIED:20260412T042215Z
UID:10001357-1780693200-1780700400@miestilobajio.com
SUMMARY:Bruses en Foro Paruno
DESCRIPTION:Bruses llega a León con todo el poder del Estabienestarmal Tour este próximo 5 de junio. Prepárate para una noche intensa\, catártica y llena de emociones.
URL:https://miestilobajio.com/event/bruses-en-foro-paruno/
LOCATION:Foro Paruno Central de Música\, Blvd. Juan Alonso de Torres Pte. 224\, León\, 37148\, Mexico
CATEGORIES:Concierto
ATTACH;FMTTYPE=image/jpeg:https://miestilobajio.com/wp-content/uploads/2026/04/bruses.jpg
END:VEVENT
BEGIN:VEVENT
DTSTART;TZID=America/Mexico_City:20260609T210000
DTEND;TZID=America/Mexico_City:20260609T230000
DTSTAMP:20260423T052012
CREATED:20260407T042538Z
LAST-MODIFIED:20260407T042538Z
UID:10001342-1781038800-1781046000@miestilobajio.com
SUMMARY:Julieta Venegas en el Teatro Manuel Doblado
DESCRIPTION:Julieta Venegas llegará a León en 2026 como parte de su esperado “Norteña Tour”. La multipremiada cantautora mexicana confirmó que el Teatro Manuel Doblado será el escenario donde se reencontrará con su público guanajuatense el próximo 9 de junio.
URL:https://miestilobajio.com/event/julieta-venegas-en-el-teatro-manuel-doblado/
LOCATION:Teatro Manuel Doblado\, Calle Pedro Moreno #202 Zona Centro\, Leon\, Guanajuato\, 37000\, Mexico
CATEGORIES:Concierto
ATTACH;FMTTYPE=image/jpeg:https://miestilobajio.com/wp-content/uploads/2026/04/Julieta-venegas.jpg
END:VEVENT
BEGIN:VEVENT
DTSTART;TZID=America/Mexico_City:20260618T210000
DTEND;TZID=America/Mexico_City:20260618T210000
DTSTAMP:20260423T052012
CREATED:20260402T185532Z
LAST-MODIFIED:20260402T185645Z
UID:10001318-1781816400-1781816400@miestilobajio.com
SUMMARY:Sebastian Yatra en la Velaria de la Feria de León
DESCRIPTION:¡Yatra\, Yatra! suena por todos lados en Latinoamérica en los últimos años\, ¡y cómo no! si Sebastián Yatra se ha encargado de conquistar con su talento versátil a todos aquellos amantes de los ritmos latinos. \nCon un poder bastante establecido que consiste en derribar barreras de género\, el cantante colombiano navega con facilidad por un mercado que a menudo exige a los artistas que no se casen con un solo estilo. ¡Lo de él es la audacia! Temas exitosos como “Tacones rojos”\, “Robarte un beso” o “Traicionera” son prueba de ello.
URL:https://miestilobajio.com/event/sebastian-yatra-en-la-velaria-de-la-feria-de-leon/
LOCATION:Velaria de la Feria de León\, Bulevar Paseo de los Niños 111\, Zona Recreativa y Cultural\, León\, Guanajuato\, 37500\, Mexico
CATEGORIES:Concierto
ATTACH;FMTTYPE=image/jpeg:https://miestilobajio.com/wp-content/uploads/2026/04/yatra.jpg
END:VEVENT
END:VCALENDAR