BEGIN:VCALENDAR
VERSION:2.0
PRODID:-//Mi Estilo Bajío - ECPv6.15.20//NONSGML v1.0//EN
CALSCALE:GREGORIAN
METHOD:PUBLISH
X-ORIGINAL-URL:https://miestilobajio.com
X-WR-CALDESC:Eventos para Mi Estilo Bajío
REFRESH-INTERVAL;VALUE=DURATION:PT1H
X-Robots-Tag:noindex
X-PUBLISHED-TTL:PT1H
BEGIN:VTIMEZONE
TZID:America/Mexico_City
BEGIN:STANDARD
TZOFFSETFROM:-0600
TZOFFSETTO:-0600
TZNAME:CST
DTSTART:20250101T000000
END:STANDARD
END:VTIMEZONE
BEGIN:VEVENT
DTSTART;TZID=America/Mexico_City:20260202T120000
DTEND;TZID=America/Mexico_City:20260202T234500
DTSTAMP:20260424T085021
CREATED:20251013T232106Z
LAST-MODIFIED:20251013T232106Z
UID:10001080-1770033600-1770075900@miestilobajio.com
SUMMARY:Feria de León 2026
DESCRIPTION:🎡 ¡Feria de León 2026! 🎶 Disfruta de conciertos\, espectáculos para toda la familia\, gastronomía\, compras y ¡mucho más! 🍭✨
URL:https://miestilobajio.com/event/feria-de-leon-2026-3/
LOCATION:Feria Estatal de León\, Blvd. Adolfo López Mateos 1820 Ote. Col. La Martinica\, León\, 37500\, MX
CATEGORIES:Festival
ATTACH;FMTTYPE=image/jpeg:https://miestilobajio.com/wp-content/uploads/2025/10/48693_image_566215076_1750136639067406_8922682159509870181_n.jpg
END:VEVENT
BEGIN:VEVENT
DTSTART;TZID=America/Mexico_City:20260203T120000
DTEND;TZID=America/Mexico_City:20260203T234500
DTSTAMP:20260424T085021
CREATED:20251013T232106Z
LAST-MODIFIED:20251013T232106Z
UID:10001079-1770120000-1770162300@miestilobajio.com
SUMMARY:Feria de León 2026
DESCRIPTION:🎡 ¡Feria de León 2026! 🎶 Disfruta de conciertos\, espectáculos para toda la familia\, gastronomía\, compras y ¡mucho más! 🍭✨
URL:https://miestilobajio.com/event/feria-de-leon-2026-2/
LOCATION:Feria Estatal de León\, Blvd. Adolfo López Mateos 1820 Ote. Col. La Martinica\, León\, 37500\, MX
CATEGORIES:Festival
ATTACH;FMTTYPE=image/jpeg:https://miestilobajio.com/wp-content/uploads/2025/10/48693_image_566215076_1750136639067406_8922682159509870181_n.jpg
END:VEVENT
BEGIN:VEVENT
DTSTART;TZID=America/Mexico_City:20260204T120000
DTEND;TZID=America/Mexico_City:20260204T234500
DTSTAMP:20260424T085021
CREATED:20251013T232104Z
LAST-MODIFIED:20251013T232104Z
UID:10001078-1770206400-1770248700@miestilobajio.com
SUMMARY:Feria de León 2026
DESCRIPTION:🎡 ¡Feria de León 2026! 🎶 Disfruta de conciertos\, espectáculos para toda la familia\, gastronomía\, compras y ¡mucho más! 🍭✨
URL:https://miestilobajio.com/event/feria-de-leon-2026/
LOCATION:Feria Estatal de León\, Blvd. Adolfo López Mateos 1820 Ote. Col. La Martinica\, León\, 37500\, MX
CATEGORIES:Festival
ATTACH;FMTTYPE=image/jpeg:https://miestilobajio.com/wp-content/uploads/2025/10/48693_image_566215076_1750136639067406_8922682159509870181_n.jpg
END:VEVENT
END:VCALENDAR