BEGIN:VCALENDAR
VERSION:2.0
PRODID:-//Mi Estilo Bajío - ECPv6.15.20//NONSGML v1.0//EN
CALSCALE:GREGORIAN
METHOD:PUBLISH
X-ORIGINAL-URL:https://miestilobajio.com
X-WR-CALDESC:Eventos para Mi Estilo Bajío
REFRESH-INTERVAL;VALUE=DURATION:PT1H
X-Robots-Tag:noindex
X-PUBLISHED-TTL:PT1H
BEGIN:VTIMEZONE
TZID:America/Mexico_City
BEGIN:STANDARD
TZOFFSETFROM:-0600
TZOFFSETTO:-0600
TZNAME:CST
DTSTART:20240101T000000
END:STANDARD
END:VTIMEZONE
BEGIN:VEVENT
DTSTART;TZID=America/Mexico_City:20251028T090000
DTEND;TZID=America/Mexico_City:20251028T180000
DTSTAMP:20260421T104633
CREATED:20250905T165337Z
LAST-MODIFIED:20250905T165337Z
UID:10001034-1761642000-1761674400@miestilobajio.com
SUMMARY:Body Worlds: Animal Inside Out en Explora León
DESCRIPTION:Descubre el asombroso mundo de la anatomía animal desde una perspectiva única. Curada por la Dra. Angelina Whalley y basada en la plastinación del Dr. Gunther von Hagens\, la exposición permite observar más de 100 animales sin piel\, revelando músculos\, órganos y sistemas internos con precisión científica. \nPresentada en museos de Europa y Norteamérica\, llega a Explora del 12 de septiembre al 15 de febrero de 2026. Destacan una jirafa de 5 metros\, un calamar gigante y un toro con un corazón cinco veces más grande que el humano. Todos los animales provienen de zoológicos y centros de conservación; ninguno fue sacrificado.
URL:https://miestilobajio.com/event/body-worlds-animal-inside-out-en-explora-leon-6/
LOCATION:Explora León\, Blvd. Francisco Villa 202 Col. La Martinica\, León\, Guanajuato\, 37500\, Mexico
CATEGORIES:Exposición
ATTACH;FMTTYPE=image/jpeg:https://miestilobajio.com/wp-content/uploads/2025/09/47002_image_542757910_1717547335659670_4320353641299724801_n-1.jpg
END:VEVENT
BEGIN:VEVENT
DTSTART;TZID=America/Mexico_City:20251029T090000
DTEND;TZID=America/Mexico_City:20251029T180000
DTSTAMP:20260421T104633
CREATED:20250905T165336Z
LAST-MODIFIED:20250905T165336Z
UID:10001033-1761728400-1761760800@miestilobajio.com
SUMMARY:Body Worlds: Animal Inside Out en Explora León
DESCRIPTION:Descubre el asombroso mundo de la anatomía animal desde una perspectiva única. Curada por la Dra. Angelina Whalley y basada en la plastinación del Dr. Gunther von Hagens\, la exposición permite observar más de 100 animales sin piel\, revelando músculos\, órganos y sistemas internos con precisión científica. \nPresentada en museos de Europa y Norteamérica\, llega a Explora del 12 de septiembre al 15 de febrero de 2026. Destacan una jirafa de 5 metros\, un calamar gigante y un toro con un corazón cinco veces más grande que el humano. Todos los animales provienen de zoológicos y centros de conservación; ninguno fue sacrificado.
URL:https://miestilobajio.com/event/body-worlds-animal-inside-out-en-explora-leon-4/
LOCATION:Explora León\, Blvd. Francisco Villa 202 Col. La Martinica\, León\, Guanajuato\, 37500\, Mexico
CATEGORIES:Exposición
ATTACH;FMTTYPE=image/jpeg:https://miestilobajio.com/wp-content/uploads/2025/09/47002_image_542757910_1717547335659670_4320353641299724801_n.jpg
END:VEVENT
BEGIN:VEVENT
DTSTART;TZID=America/Mexico_City:20251029T090000
DTEND;TZID=America/Mexico_City:20251029T180000
DTSTAMP:20260421T104633
CREATED:20250905T165336Z
LAST-MODIFIED:20250905T165336Z
UID:10001035-1761728400-1761760800@miestilobajio.com
SUMMARY:Body Worlds: Animal Inside Out en Explora León
DESCRIPTION:Descubre el asombroso mundo de la anatomía animal desde una perspectiva única. Curada por la Dra. Angelina Whalley y basada en la plastinación del Dr. Gunther von Hagens\, la exposición permite observar más de 100 animales sin piel\, revelando músculos\, órganos y sistemas internos con precisión científica. \nPresentada en museos de Europa y Norteamérica\, llega a Explora del 12 de septiembre al 15 de febrero de 2026. Destacan una jirafa de 5 metros\, un calamar gigante y un toro con un corazón cinco veces más grande que el humano. Todos los animales provienen de zoológicos y centros de conservación; ninguno fue sacrificado.
URL:https://miestilobajio.com/event/body-worlds-animal-inside-out-en-explora-leon-5/
LOCATION:Explora León\, Blvd. Francisco Villa 202 Col. La Martinica\, León\, Guanajuato\, 37500\, Mexico
CATEGORIES:Exposición
ATTACH;FMTTYPE=image/jpeg:https://miestilobajio.com/wp-content/uploads/2025/09/47002_image_542757910_1717547335659670_4320353641299724801_n-1.jpg
END:VEVENT
BEGIN:VEVENT
DTSTART;TZID=America/Mexico_City:20251030T090000
DTEND;TZID=America/Mexico_City:20251030T180000
DTSTAMP:20260421T104633
CREATED:20250905T165336Z
LAST-MODIFIED:20250905T165336Z
UID:10001032-1761814800-1761847200@miestilobajio.com
SUMMARY:Body Worlds: Animal Inside Out en Explora León
DESCRIPTION:Descubre el asombroso mundo de la anatomía animal desde una perspectiva única. Curada por la Dra. Angelina Whalley y basada en la plastinación del Dr. Gunther von Hagens\, la exposición permite observar más de 100 animales sin piel\, revelando músculos\, órganos y sistemas internos con precisión científica. \nPresentada en museos de Europa y Norteamérica\, llega a Explora del 12 de septiembre al 15 de febrero de 2026. Destacan una jirafa de 5 metros\, un calamar gigante y un toro con un corazón cinco veces más grande que el humano. Todos los animales provienen de zoológicos y centros de conservación; ninguno fue sacrificado.
URL:https://miestilobajio.com/event/body-worlds-animal-inside-out-en-explora-leon-3/
LOCATION:Explora León\, Blvd. Francisco Villa 202 Col. La Martinica\, León\, Guanajuato\, 37500\, Mexico
CATEGORIES:Exposición
ATTACH;FMTTYPE=image/jpeg:https://miestilobajio.com/wp-content/uploads/2025/09/47002_image_542757910_1717547335659670_4320353641299724801_n-1.jpg
END:VEVENT
BEGIN:VEVENT
DTSTART;TZID=America/Mexico_City:20251030T090000
DTEND;TZID=America/Mexico_City:20251030T180000
DTSTAMP:20260421T104633
CREATED:20250905T165336Z
LAST-MODIFIED:20250905T165336Z
UID:10001031-1761814800-1761847200@miestilobajio.com
SUMMARY:Body Worlds: Animal Inside Out en Explora León
DESCRIPTION:Descubre el asombroso mundo de la anatomía animal desde una perspectiva única. Curada por la Dra. Angelina Whalley y basada en la plastinación del Dr. Gunther von Hagens\, la exposición permite observar más de 100 animales sin piel\, revelando músculos\, órganos y sistemas internos con precisión científica. \nPresentada en museos de Europa y Norteamérica\, llega a Explora del 12 de septiembre al 15 de febrero de 2026. Destacan una jirafa de 5 metros\, un calamar gigante y un toro con un corazón cinco veces más grande que el humano. Todos los animales provienen de zoológicos y centros de conservación; ninguno fue sacrificado.
URL:https://miestilobajio.com/event/body-worlds-animal-inside-out-en-explora-leon-2/
LOCATION:Explora León\, Blvd. Francisco Villa 202 Col. La Martinica\, León\, Guanajuato\, 37500\, Mexico
CATEGORIES:Exposición
ATTACH;FMTTYPE=image/jpeg:https://miestilobajio.com/wp-content/uploads/2025/09/47002_image_542757910_1717547335659670_4320353641299724801_n.jpg
END:VEVENT
BEGIN:VEVENT
DTSTART;TZID=America/Mexico_City:20251031T090000
DTEND;TZID=America/Mexico_City:20251031T180000
DTSTAMP:20260421T104633
CREATED:20250905T165334Z
LAST-MODIFIED:20250905T165501Z
UID:10001030-1761901200-1761933600@miestilobajio.com
SUMMARY:Body Worlds: Animal Inside Out en Explora León
DESCRIPTION:Descubre el asombroso mundo de la anatomía animal desde una perspectiva única. Curada por la Dra. Angelina Whalley y basada en la plastinación del Dr. Gunther von Hagens\, la exposición permite observar más de 100 animales sin piel\, revelando músculos\, órganos y sistemas internos con precisión científica. \nPresentada en museos de Europa y Norteamérica\, llega a Explora del 12 de septiembre al 15 de febrero de 2026. Destacan una jirafa de 5 metros\, un calamar gigante y un toro con un corazón cinco veces más grande que el humano. Todos los animales provienen de zoológicos y centros de conservación; ninguno fue sacrificado.
URL:https://miestilobajio.com/event/body-worlds-animal-inside-out-en-explora-leon/
LOCATION:Explora León\, Blvd. Francisco Villa 202 Col. La Martinica\, León\, Guanajuato\, 37500\, Mexico
CATEGORIES:Exposición
ATTACH;FMTTYPE=image/jpeg:https://miestilobajio.com/wp-content/uploads/2025/09/47002_image_542757910_1717547335659670_4320353641299724801_n-1.jpg
END:VEVENT
BEGIN:VEVENT
DTSTART;TZID=America/Mexico_City:20251101T100000
DTEND;TZID=America/Mexico_City:20251101T190000
DTSTAMP:20260421T104633
CREATED:20251003T130122Z
LAST-MODIFIED:20251003T130122Z
UID:10001064-1761991200-1762023600@miestilobajio.com
SUMMARY:Body Worlds: Animal Inside Out en Explora León
DESCRIPTION:Descubre el asombroso mundo de la anatomía animal desde una perspectiva única. Curada por la Dra. Angelina Whalley y basada en la plastinación del Dr. Gunther von Hagens\, la exposición permite observar más de 100 animales sin piel\, revelando músculos\, órganos y sistemas internos con precisión científica. \nPresentada en museos de Europa y Norteamérica\, llega a Explora del 12 de septiembre al 15 de febrero de 2026. Destacan una jirafa de 5 metros\, un calamar gigante y un toro con un corazón cinco veces más grande que el humano. Todos los animales provienen de zoológicos y centros de conservación; ninguno fue sacrificado.
URL:https://miestilobajio.com/event/body-worlds-animal-inside-out-en-explora-leon-34/
LOCATION:Explora León\, Blvd. Francisco Villa 202 Col. La Martinica\, León\, Guanajuato\, 37500\, Mexico
CATEGORIES:Exposición
ATTACH;FMTTYPE=image/jpeg:https://miestilobajio.com/wp-content/uploads/2025/10/48189_image_558210302_1740589970022073_6729829854312266740_n.jpg
END:VEVENT
BEGIN:VEVENT
DTSTART;TZID=America/Mexico_City:20251102T100000
DTEND;TZID=America/Mexico_City:20251102T190000
DTSTAMP:20260421T104633
CREATED:20251003T130121Z
LAST-MODIFIED:20251003T130202Z
UID:10001063-1762077600-1762110000@miestilobajio.com
SUMMARY:Body Worlds: Animal Inside Out en Explora León
DESCRIPTION:Descubre el asombroso mundo de la anatomía animal desde una perspectiva única. Curada por la Dra. Angelina Whalley y basada en la plastinación del Dr. Gunther von Hagens\, la exposición permite observar más de 100 animales sin piel\, revelando músculos\, órganos y sistemas internos con precisión científica. \nPresentada en museos de Europa y Norteamérica\, llega a Explora del 12 de septiembre al 15 de febrero de 2026. Destacan una jirafa de 5 metros\, un calamar gigante y un toro con un corazón cinco veces más grande que el humano. Todos los animales provienen de zoológicos y centros de conservación; ninguno fue sacrificado.
URL:https://miestilobajio.com/event/body-worlds-animal-inside-out-en-explora-leon-33/
LOCATION:Explora León\, Blvd. Francisco Villa 202 Col. La Martinica\, León\, Guanajuato\, 37500\, Mexico
CATEGORIES:Exposición
ATTACH;FMTTYPE=image/jpeg:https://miestilobajio.com/wp-content/uploads/2025/10/48189_image_558210302_1740589970022073_6729829854312266740_n.jpg
END:VEVENT
END:VCALENDAR