BEGIN:VCALENDAR
VERSION:2.0
PRODID:-//Mi Estilo Bajío - ECPv6.15.20//NONSGML v1.0//EN
CALSCALE:GREGORIAN
METHOD:PUBLISH
X-WR-CALNAME:Mi Estilo Bajío
X-ORIGINAL-URL:https://miestilobajio.com
X-WR-CALDESC:Eventos para Mi Estilo Bajío
REFRESH-INTERVAL;VALUE=DURATION:PT1H
X-Robots-Tag:noindex
X-PUBLISHED-TTL:PT1H
BEGIN:VTIMEZONE
TZID:America/Mexico_City
BEGIN:STANDARD
TZOFFSETFROM:-0600
TZOFFSETTO:-0600
TZNAME:CST
DTSTART:20250101T000000
END:STANDARD
END:VTIMEZONE
BEGIN:VEVENT
DTSTART;TZID=America/Mexico_City:20261204T210000
DTEND;TZID=America/Mexico_City:20261204T230000
DTSTAMP:20260423T065937
CREATED:20260407T043150Z
LAST-MODIFIED:20260407T043150Z
UID:10001343-1796418000-1796425200@miestilobajio.com
SUMMARY:Carlos Ballarta en el Teatro Manuel Doblado
DESCRIPTION:Carlos Ballarta ha confirmado su regreso a León tras una larga ausencia\, con lo que ha generado expectativa entre sus seguidores en la ciudad. El evento forma parte de su actual tour de stand-up\, «Naco Ladino» con el que ha recorrerá distintas ciudades de México y el extranjero.
URL:https://miestilobajio.com/event/carlos-ballarta-en-el-teatro-manuel-doblado/
LOCATION:Teatro Manuel Doblado\, Calle Pedro Moreno #202 Zona Centro\, Leon\, Guanajuato\, 37000\, Mexico
CATEGORIES:Stand Up
ATTACH;FMTTYPE=image/jpeg:https://miestilobajio.com/wp-content/uploads/2026/04/carlos.jpg
END:VEVENT
END:VCALENDAR