BEGIN:VCALENDAR
VERSION:2.0
PRODID:-//Mi Estilo Bajío - ECPv6.15.20//NONSGML v1.0//EN
CALSCALE:GREGORIAN
METHOD:PUBLISH
X-WR-CALNAME:Mi Estilo Bajío
X-ORIGINAL-URL:https://miestilobajio.com
X-WR-CALDESC:Eventos para Mi Estilo Bajío
REFRESH-INTERVAL;VALUE=DURATION:PT1H
X-Robots-Tag:noindex
X-PUBLISHED-TTL:PT1H
BEGIN:VTIMEZONE
TZID:America/Mexico_City
BEGIN:STANDARD
TZOFFSETFROM:-0600
TZOFFSETTO:-0600
TZNAME:CST
DTSTART:20250101T000000
END:STANDARD
END:VTIMEZONE
BEGIN:VEVENT
DTSTART;TZID=America/Mexico_City:20261121T170000
DTEND;TZID=America/Mexico_City:20261121T190000
DTSTAMP:20260421T034323
CREATED:20260407T034642Z
LAST-MODIFIED:20260407T035337Z
UID:10001340-1795280400-1795287600@miestilobajio.com
SUMMARY:Mentiras en el Teatro Manuel Doblado
DESCRIPTION:Mentiras el Musical es el espectáculo musical y teatral favorito de México. Una obra que se ha convertido en un fenómeno que atrae una y otra vez a la gente y ahora celebra 17 años de éxito. \nDaniela\, Dulce\, Lupita y Yuri\, cuatro mujeres\, intentan descubrir el misterioso secreto que las ha reunido para contar sus historias de amor alrededor de un hombre\, Emmanuel\, que solo les ha dicho MENTIRAS.
URL:https://miestilobajio.com/event/mentiras-en-el-teatro-manuel-doblado-2/
LOCATION:Teatro Manuel Doblado\, Calle Pedro Moreno #202 Zona Centro\, Leon\, Guanajuato\, 37000\, Mexico
CATEGORIES:Teatro
ATTACH;FMTTYPE=image/jpeg:https://miestilobajio.com/wp-content/uploads/2026/04/60928_image_667866492_1889351365145932_8866716965946447015_n.jpg
END:VEVENT
BEGIN:VEVENT
DTSTART;TZID=America/Mexico_City:20261121T203000
DTEND;TZID=America/Mexico_City:20261121T223000
DTSTAMP:20260421T034323
CREATED:20260407T034641Z
LAST-MODIFIED:20260407T035333Z
UID:10001339-1795293000-1795300200@miestilobajio.com
SUMMARY:Mentiras en el Teatro Manuel Doblado
DESCRIPTION:Mentiras el Musical es el espectáculo musical y teatral favorito de México. Una obra que se ha convertido en un fenómeno que atrae una y otra vez a la gente y ahora celebra 17 años de éxito. \nDaniela\, Dulce\, Lupita y Yuri\, cuatro mujeres\, intentan descubrir el misterioso secreto que las ha reunido para contar sus historias de amor alrededor de un hombre\, Emmanuel\, que solo les ha dicho MENTIRAS.
URL:https://miestilobajio.com/event/mentiras-en-el-teatro-manuel-doblado/
LOCATION:Teatro Manuel Doblado\, Calle Pedro Moreno #202 Zona Centro\, Leon\, Guanajuato\, 37000\, Mexico
CATEGORIES:Teatro
ATTACH;FMTTYPE=image/jpeg:https://miestilobajio.com/wp-content/uploads/2026/04/60928_image_667866492_1889351365145932_8866716965946447015_n.jpg
END:VEVENT
END:VCALENDAR