BEGIN:VCALENDAR
VERSION:2.0
PRODID:-//Mi Estilo Bajío - ECPv6.15.20//NONSGML v1.0//EN
CALSCALE:GREGORIAN
METHOD:PUBLISH
X-WR-CALNAME:Mi Estilo Bajío
X-ORIGINAL-URL:https://miestilobajio.com
X-WR-CALDESC:Eventos para Mi Estilo Bajío
REFRESH-INTERVAL;VALUE=DURATION:PT1H
X-Robots-Tag:noindex
X-PUBLISHED-TTL:PT1H
BEGIN:VTIMEZONE
TZID:America/Mexico_City
BEGIN:STANDARD
TZOFFSETFROM:-0600
TZOFFSETTO:-0600
TZNAME:CST
DTSTART:20250101T000000
END:STANDARD
END:VTIMEZONE
BEGIN:VEVENT
DTSTART;TZID=America/Mexico_City:20260417T210000
DTEND;TZID=America/Mexico_City:20260417T210000
DTSTAMP:20260421T055648
CREATED:20251130T234802Z
LAST-MODIFIED:20251130T234844Z
UID:10001185-1776459600-1776459600@miestilobajio.com
SUMMARY:Caloncho en el Teatro Manuel Doblado
DESCRIPTION:Caloncho\, originario de Ciudad Obregón\, Sonora\, ha construido una propuesta musical que fusiona pop\, folk\, reggae y elementos latinos. Su estilo se caracteriza por crear atmósferas que remiten a la naturaleza\, la introspección y el disfrute simple de las cosas.
URL:https://miestilobajio.com/event/caloncho-en-el-teatro-manuel-doblado/
LOCATION:Teatro Manuel Doblado\, Calle Pedro Moreno #202 Zona Centro\, Leon\, Guanajuato\, 37000\, Mexico
CATEGORIES:Concierto
ATTACH;FMTTYPE=image/jpeg:https://miestilobajio.com/wp-content/uploads/2025/11/52450_image_592205810_1789565868457816_7296414138665285124_n.jpg
END:VEVENT
BEGIN:VEVENT
DTSTART;TZID=America/Mexico_City:20260417T210000
DTEND;TZID=America/Mexico_City:20260417T210000
DTSTAMP:20260421T055648
CREATED:20260226T013450Z
LAST-MODIFIED:20260226T013455Z
UID:10001303-1776459600-1776459600@miestilobajio.com
SUMMARY:Hello Seahorse! en Foro Paruno
DESCRIPTION:Hello Seahorse! Es una de las bandas mexicanas más respetadas de la escena independiente\, formada en la Ciudad de México a finales del 2005. La banda es integrada por Denise Gutiérrez en la voz\, Bonnz en los beats y Burgos en los sintetizadores.
URL:https://miestilobajio.com/event/hello-seahorse-en-foro-paruno/
LOCATION:Foro Paruno Central de Música\, Blvd. Juan Alonso de Torres Pte. 224\, León\, 37148\, Mexico
CATEGORIES:Conferencia
ATTACH;FMTTYPE=image/jpeg:https://miestilobajio.com/wp-content/uploads/2026/02/58410_image_641438599_1857450555002680_9187275263156511763_n.jpg
END:VEVENT
END:VCALENDAR